BEGIN:VCALENDAR
VERSION:2.0
PRODID:-//ortenaukultur.de//NONSGML kigkonsult.se iCalcreator 2.41.92//
CALSCALE:GREGORIAN
METHOD:PUBLISH
UID:66333635-6465-4630-a466-343435633463
X-WR-TIMEZONE:Europe/Berlin
X-LIC-LOCATION:Europe/Berlin
BEGIN:VEVENT
UID:591438-kulturportal@ortenaukultur.de
DTSTAMP:20260421T231724Z
DESCRIPTION:Kurzbeschreibung:\n für alle\, die ihren Alltag lieben\, manchm
 al verfluchen und immer drüber lachen können.\n Ort:\n Alte Rösterei (Kehl
 er Hafen)\n Ostrstraße 13\, 77694 Kehl\n Veranstalter:\n Theater der zwei 
 Ufer.e.V.\n Termin:\n Beginn: 08.05.2026\n Ende: 08.05.2026\n Link:\n Zur 
 Detailseite
DTSTART;TZID=Europe/Berlin:20260508T000000
DTEND;TZID=Europe/Berlin:20260508T030000
LOCATION:Alte Rösterei (Kehler Hafen)\, Ostrstraße 13\, 77694 Kehl
SUMMARY:s‘ SCHÄTZLE PACKT AUS-          Ein Kabarettabend voller Sprachwitz
  und Wiedererkennungswert \, Alte Rösterei (Kehler Hafen)
X-ALT-DESC;FMTTYPE=text/html:<strong>Kurzbeschreibung:</strong><br/>für all
 e\, die ihren Alltag lieben\, manchmal verfluchen und immer drüber lachen 
 können.<br /><strong>Ort:</strong><br/>Alte Rösterei (Kehler Hafen)<br/>Os
 trstraße 13\, 77694 Kehl<br /><strong>Veranstalter:</strong><br/>Theater d
 er zwei Ufer.e.V.<br /><strong>Termin:</strong><br/>Beginn: 08.05.2026<br/
 >Ende: 08.05.2026<br /><strong>Link:</strong><br/><a href='https://ortenau
 kultur.de/de/veranstaltungen/detail/veranstaltung/id/591438-s-schaetzle-pa
 ckt-aus-ein-kabarettabend-voller-sprachwitz-und-wiedererkennungswert/?vt=1
 '>Zur Detailseite</a>
END:VEVENT
END:VCALENDAR
