BEGIN:VCALENDAR
VERSION:2.0
PRODID:-//ortenaukultur.de//NONSGML kigkonsult.se iCalcreator 2.41.92//
CALSCALE:GREGORIAN
METHOD:PUBLISH
UID:33623834-6636-4166-b835-653866663663
X-WR-TIMEZONE:Europe/Berlin
X-LIC-LOCATION:Europe/Berlin
BEGIN:VEVENT
UID:591521-kulturportal@ortenaukultur.de
DTSTAMP:20260421T213925Z
DESCRIPTION:Kurzbeschreibung:\n Der Verein TRANSC3ND präsentiert eine deuts
 ch-französische Theateraufführung des Projekts Mask'ar'ade\n Ort:\n Stadth
 alle\n Großherzog-Friedrich-Str. 19\, 77694 Kehl\n Veranstalter:\n Associa
 tion TRANSC3ND\n Termin:\n Beginn: 29.04.2026\n Ende: 29.04.2026\n Tickets
 :\n Eintritt frei\n Link:\n Zur Detailseite
DTSTART;TZID=Europe/Berlin:20260429T000000
DTEND;TZID=Europe/Berlin:20260429T030000
LOCATION:Stadthalle\, Großherzog-Friedrich-Str. 19\, 77694 Kehl
SUMMARY:Mystère in der Schule\, Stadthalle
X-ALT-DESC;FMTTYPE=text/html:<strong>Kurzbeschreibung:</strong><br/>Der Ver
 ein TRANSC3ND präsentiert eine deutsch-französische Theateraufführung des 
 Projekts Mask'ar'ade <br /><strong>Ort:</strong><br/>Stadthalle<br/>Großhe
 rzog-Friedrich-Str. 19\, 77694 Kehl<br /><strong>Veranstalter:</strong><br
 />Association TRANSC3ND<br /><strong>Termin:</strong><br/>Beginn: 29.04.20
 26<br/>Ende: 29.04.2026<br /><strong>Tickets: </strong><br/>Eintritt frei<
 br /><strong>Link:</strong><br/><a href='https://ortenaukultur.de/de/veran
 staltungen/detail/veranstaltung/id/591521-mystere-in-der-schule/?vt=1'>Zur
  Detailseite</a>
END:VEVENT
END:VCALENDAR
