BEGIN:VCALENDAR
VERSION:2.0
PRODID:-//ortenaukultur.de//NONSGML kigkonsult.se iCalcreator 2.41.92//
CALSCALE:GREGORIAN
METHOD:PUBLISH
UID:65636437-3761-4738-a438-383064376164
X-WR-TIMEZONE:Europe/Berlin
X-LIC-LOCATION:Europe/Berlin
BEGIN:VEVENT
UID:591525-kulturportal@ortenaukultur.de
DTSTAMP:20260422T054517Z
DESCRIPTION:Kurzbeschreibung:\n mit Schnupperkurs in Kooperation mit dem Sa
 lsa Club jeden letzten Freitag im Monat\n Ort:\n KiK Weingartenstr. 34c\n 
 Weingartenstraße 34 c\, 77654 Offenburg\n Veranstalter:\n KiK - Kultur in 
 der Kaserne\n Termin:\n Beginn: 24.04.2026\, 20:00 Uhr\n Ende: 24.04.2026
 \n Link:\n Zur Detailseite
DTSTART;TZID=Europe/Berlin:20260424T200000
DTEND;TZID=Europe/Berlin:20260424T230000
LOCATION:KiK Weingartenstr. 34c\, Weingartenstraße 34 c\, 77654 Offenburg
SUMMARY:Salsa Dance Night\, KiK - Kultur in der Kaserne
X-ALT-DESC;FMTTYPE=text/html:<strong>Kurzbeschreibung:</strong><br/>mit Sch
 nupperkurs in Kooperation mit dem Salsa Club jeden letzten Freitag im Mona
 t<br /><strong>Ort:</strong><br/>KiK Weingartenstr. 34c<br/>Weingartenstra
 ße 34 c\, 77654 Offenburg<br /><strong>Veranstalter:</strong><br/>KiK - Ku
 ltur in der Kaserne<br /><strong>Termin:</strong><br/>Beginn: 24.04.2026\,
  20:00 Uhr<br/>Ende: 24.04.2026<br /><strong>Link:</strong><br/><a href='h
 ttps://ortenaukultur.de/de/veranstaltungen/detail/veranstaltung/id/591525-
 salsa-dance-night/?vt=1'>Zur Detailseite</a>
END:VEVENT
END:VCALENDAR
