BEGIN:VCALENDAR
VERSION:2.0
PRODID:-//ortenaukultur.de//NONSGML kigkonsult.se iCalcreator 2.41.92//
CALSCALE:GREGORIAN
METHOD:PUBLISH
UID:32313664-3765-4634-b734-353538666333
X-WR-TIMEZONE:Europe/Berlin
X-LIC-LOCATION:Europe/Berlin
BEGIN:VEVENT
UID:591591-kulturportal@ortenaukultur.de
DTSTAMP:20260421T214106Z
DESCRIPTION:Kurzbeschreibung:\n Erlebe ein unvergessliches Live-Konzert im 
 Rockcafé Altdorf mit mitreißender Musik und ausgelassener Stimmung – ein A
 bend voller Energie!\n Ort:\n Rockcafé Altdorf\n Industriestr. 3\, 77955 E
 ttenheim\n Veranstalter:\n Kulturschmiede Südbaden e.V.\n Termin:\n Beginn
 : 30.04.2026\, 20:00 Uhr\n Ende: 30.04.2026\n Tickets:\n Eintritt frei! De
 r Hut geht um.\n Link:\n Zur Detailseite
DTSTART;TZID=Europe/Berlin:20260430T200000
DTEND;TZID=Europe/Berlin:20260430T230000
LOCATION:Rockcafé Altdorf\, Industriestr. 3\, 77955 Ettenheim
SUMMARY:Tanz in den Mai mit Check Daniels (Coverrock)\, Rockcafé Altdorf
X-ALT-DESC;FMTTYPE=text/html:<strong>Kurzbeschreibung:</strong><br/>Erlebe 
 ein unvergessliches Live-Konzert im Rockcafé Altdorf mit mitreißender Musi
 k und ausgelassener Stimmung – ein Abend voller Energie!<br /><strong>Ort:
 </strong><br/>Rockcafé Altdorf<br/>Industriestr. 3\, 77955 Ettenheim<br />
 <strong>Veranstalter:</strong><br/>Kulturschmiede Südbaden e.V.<br /><stro
 ng>Termin:</strong><br/>Beginn: 30.04.2026\, 20:00 Uhr<br/>Ende: 30.04.202
 6<br /><strong>Tickets: </strong><br/>Eintritt frei! Der Hut geht um.<br /
 ><strong>Link:</strong><br/><a href='https://ortenaukultur.de/de/veranstal
 tungen/detail/veranstaltung/id/591591-tanz-in-den-mai-mit-check-daniels-co
 verrock/?vt=1'>Zur Detailseite</a>
END:VEVENT
END:VCALENDAR
