BEGIN:VCALENDAR
VERSION:2.0
PRODID:-//ortenaukultur.de//NONSGML kigkonsult.se iCalcreator 2.41.92//
CALSCALE:GREGORIAN
METHOD:PUBLISH
UID:32353534-3735-4162-a134-663466656331
X-WR-TIMEZONE:Europe/Berlin
X-LIC-LOCATION:Europe/Berlin
BEGIN:VEVENT
UID:591627-kulturportal@ortenaukultur.de
DTSTAMP:20260421T210259Z
DESCRIPTION:Kurzbeschreibung:\n Sechs Oberkircher Künstlerinnen und Künstle
 r präsentieren ihre Werke in fünf Oberkircher Brennereien.\n Ort:\n Oberki
 rcher Brennereien\, Oberkirch\n Veranstalter:\n Stadt Oberkirch\n Termin:
 \n Beginn: 29.03.2026\n Ende: 29.03.2026\n Link:\n Zur Detailseite
DTSTART;TZID=Europe/Berlin:20260329T000000
DTEND;TZID=Europe/Berlin:20260329T040000
LOCATION:Oberkircher Brennereien\, Oberkirch
SUMMARY:Schnapsideen. Kunst trifft Brennkunst.\, Oberkircher Brennereien
X-ALT-DESC;FMTTYPE=text/html:<strong>Kurzbeschreibung:</strong><br/>Sechs O
 berkircher Künstlerinnen und Künstler präsentieren ihre Werke in fünf Ober
 kircher Brennereien.<br /><strong>Ort:</strong><br/>Oberkircher Brennereie
 n\, Oberkirch<br /><strong>Veranstalter:</strong><br/>Stadt Oberkirch<br /
 ><strong>Termin:</strong><br/>Beginn: 29.03.2026<br/>Ende: 29.03.2026<br /
 ><strong>Link:</strong><br/><a href='https://ortenaukultur.de/de/veranstal
 tungen/detail/veranstaltung/id/591627-schnapsideen-kunst-trifft-brennkunst
 /?vt=1'>Zur Detailseite</a>
END:VEVENT
END:VCALENDAR
