BEGIN:VCALENDAR
VERSION:2.0
PRODID:-//ortenaukultur.de//NONSGML kigkonsult.se iCalcreator 2.41.92//
CALSCALE:GREGORIAN
METHOD:PUBLISH
UID:62623735-3233-4961-b532-663839313831
X-WR-TIMEZONE:Europe/Berlin
X-LIC-LOCATION:Europe/Berlin
BEGIN:VEVENT
UID:593817-kulturportal@ortenaukultur.de
DTSTAMP:20260421T172055Z
DESCRIPTION:Kurzbeschreibung:\n Latin Ladystyle – tanzen nur für Frauen Ent
 decke deine feminine Seite mit Leidenschaft\, Eleganz und Power!\n Ort:\n 
 TSC Clubheim\, Am Stadion 3\, Achern\n Veranstalter:\n Tanzsportclub Acher
 n e.V.\n Termin:\n Beginn: 24.04.2026\, 20:00 Uhr\n Ende: 24.04.2026\n Tic
 kets:\n Tickets\n 12\,-€ pro Termin (zahlbar in bar vor Ort)\n oder Erwerb
  einer 5er Karte für 55\,-€\n Link:\n Zur Detailseite
DTSTART;TZID=Europe/Berlin:20260424T200000
DTEND;TZID=Europe/Berlin:20260424T230000
LOCATION:TSC Clubheim\, Am Stadion 3\, Achern
SUMMARY:Latin Ladystyle\, TSC Clubheim\, Am Stadion 3
X-ALT-DESC;FMTTYPE=text/html:<strong>Kurzbeschreibung:</strong><br/>Latin L
 adystyle – tanzen nur für Frauen\nEntdecke deine feminine Seite mit Leiden
 schaft\, Eleganz und Power!<br /><strong>Ort:</strong><br/>TSC Clubheim\, 
 Am Stadion 3\, Achern<br /><strong>Veranstalter:</strong><br/>Tanzsportclu
 b Achern e.V.<br /><strong>Termin:</strong><br/>Beginn: 24.04.2026\, 20:00
  Uhr<br/>Ende: 24.04.2026<br /><strong>Tickets: </strong><br/><a  class='w
 co_cb_subtitle_link'  id='ticketlink'  href='mailto:kontakt@tsc-achern.net
 ' target='_blank' >Tickets</a><br/>12\,-€ pro Termin (zahlbar in bar vor O
 rt)<br />\noder Erwerb einer 5er Karte für 55\,-€<br /><strong>Link:</stro
 ng><br/><a href='https://ortenaukultur.de/de/veranstaltungen/detail/verans
 taltung/id/593817-latin-ladystyle/?vt=1'>Zur Detailseite</a>
END:VEVENT
END:VCALENDAR
