BEGIN:VCALENDAR
VERSION:2.0
PRODID:-//ortenaukultur.de//NONSGML kigkonsult.se iCalcreator 2.41.92//
CALSCALE:GREGORIAN
METHOD:PUBLISH
UID:63646561-6564-4865-b030-656365646330
X-WR-TIMEZONE:Europe/Berlin
X-LIC-LOCATION:Europe/Berlin
BEGIN:VEVENT
UID:593872-kulturportal@ortenaukultur.de
DTSTAMP:20260421T223154Z
DESCRIPTION:Kurzbeschreibung:\n Yuriy Gurzhy liest aus seinem Buch „Ein Aqu
 arium voller Schlüssel“ und zeigt Fotos aus seiner Heimatstadt Charkiw.\n 
 Ort:\n Das Kulturhaus.\n Am Läger 12\, 77694 Kehl\n Veranstalter:\n Deutsc
 h-Ukrainische Gesellschaft Ortenau e.V.\n Termin:\n Beginn: 08.05.2026\n E
 nde: 08.05.2026\n Link:\n Zur Detailseite
DTSTART;TZID=Europe/Berlin:20260508T000000
DTEND;TZID=Europe/Berlin:20260508T030000
LOCATION:Das Kulturhaus.\, Am Läger 12\, 77694 Kehl
SUMMARY:Ein Aquarium voller Schlüssel - Charkiw - Metropole im Osten der Uk
 raine\, Das Kulturhaus.
X-ALT-DESC;FMTTYPE=text/html:<strong>Kurzbeschreibung:</strong><br/>Yuriy G
 urzhy liest aus seinem Buch „Ein Aquarium voller Schlüssel“ und zeigt Foto
 s aus seiner Heimatstadt Charkiw. <br /><strong>Ort:</strong><br/>Das Kult
 urhaus.<br/>Am Läger 12\, 77694 Kehl<br /><strong>Veranstalter:</strong><b
 r/>Deutsch-Ukrainische Gesellschaft Ortenau e.V.<br /><strong>Termin:</str
 ong><br/>Beginn: 08.05.2026<br/>Ende: 08.05.2026<br /><strong>Link:</stron
 g><br/><a href='https://ortenaukultur.de/de/veranstaltungen/detail/veranst
 altung/id/593872-ein-aquarium-voller-schluessel-charkiw-metropole-im-osten
 -der-ukraine/?vt=1'>Zur Detailseite</a>
END:VEVENT
END:VCALENDAR
