BEGIN:VCALENDAR
VERSION:2.0
PRODID:-//ortenaukultur.de//NONSGML kigkonsult.se iCalcreator 2.41.92//
CALSCALE:GREGORIAN
METHOD:PUBLISH
UID:34303661-6239-4665-a638-383538323463
X-WR-TIMEZONE:Europe/Berlin
X-LIC-LOCATION:Europe/Berlin
BEGIN:VEVENT
UID:593888-kulturportal@ortenaukultur.de
DTSTAMP:20260421T214032Z
DESCRIPTION:Kurzbeschreibung:\n Ein kleines aber feines musikalisches Schwa
 rzwald-Festival im Freilichtmuseum Vogtbauernhof\n Ort:\n Schwarzwälder Fr
 eilichtmuseum Vogtsbauernhof\n Vogtsbauernhof\, 77793 Gutach (Schwarzwaldb
 ahn)\n Veranstalter:\n Schwarzwälder Freilichtmuseum Vogtsbauernhof\n Term
 in:\n Beginn: 01.05.2026\, 11:00 Uhr\n Ende: 01.05.2026\n Link:\n Zur Deta
 ilseite
DTSTART;TZID=Europe/Berlin:20260501T110000
DTEND;TZID=Europe/Berlin:20260501T140000
LOCATION:Schwarzwälder Freilichtmuseum Vogtsbauernhof\, Vogtsbauernhof\, 77
 793 Gutach (Schwarzwaldbahn)
SUMMARY:Begegnungen: Mit Musik in den Mai\, Schwarzwälder Freilichtmuseum V
 ogtsbauernhof
X-ALT-DESC;FMTTYPE=text/html:<strong>Kurzbeschreibung:</strong><br/>Ein kle
 ines aber feines musikalisches Schwarzwald-Festival im Freilichtmuseum Vog
 tbauernhof<br /><strong>Ort:</strong><br/>Schwarzwälder Freilichtmuseum Vo
 gtsbauernhof<br/>Vogtsbauernhof\, 77793 Gutach (Schwarzwaldbahn)<br /><str
 ong>Veranstalter:</strong><br/>Schwarzwälder Freilichtmuseum Vogtsbauernho
 f<br /><strong>Termin:</strong><br/>Beginn: 01.05.2026\, 11:00 Uhr<br/>End
 e: 01.05.2026<br /><strong>Link:</strong><br/><a href='https://ortenaukult
 ur.de/de/veranstaltungen/detail/veranstaltung/id/593888-begegnungen-mit-mu
 sik-in-den-mai/?vt=1'>Zur Detailseite</a>
END:VEVENT
END:VCALENDAR
