BEGIN:VCALENDAR
VERSION:2.0
PRODID:-//ortenaukultur.de//NONSGML kigkonsult.se iCalcreator 2.41.92//
CALSCALE:GREGORIAN
METHOD:PUBLISH
UID:63346361-3939-4134-a366-636266643064
X-WR-TIMEZONE:Europe/Berlin
X-LIC-LOCATION:Europe/Berlin
BEGIN:VEVENT
UID:594195-kulturportal@ortenaukultur.de
DTSTAMP:20260421T225149Z
DESCRIPTION:Kurzbeschreibung:\n Am 02. Mai 2026 verwandelt sich ganz Altdor
 f in ein lebendiges Paradies für Flohmarktliebhaber.\n Ort:\n Altdorf\n \,
  77955 Ettenheim\n Veranstalter:\n Flohmarkt Altdorf\n Termin:\n Beginn: 0
 2.05.2026\, 11:00 Uhr\n Ende: 02.05.2026\n Link:\n Zur Detailseite
DTSTART;TZID=Europe/Berlin:20260502T110000
DTEND;TZID=Europe/Berlin:20260502T140000
LOCATION:Altdorf\, \, 77955 Ettenheim
SUMMARY:Dorfflohmarkt Altdorf\, Altdorf
X-ALT-DESC;FMTTYPE=text/html:<strong>Kurzbeschreibung:</strong><br/>Am 02. 
 Mai 2026 verwandelt sich ganz Altdorf in ein lebendiges Paradies für Flohm
 arktliebhaber. <br /><strong>Ort:</strong><br/>Altdorf<br/>\, 77955 Ettenh
 eim<br /><strong>Veranstalter:</strong><br/>Flohmarkt Altdorf <br /><stron
 g>Termin:</strong><br/>Beginn: 02.05.2026\, 11:00 Uhr<br/>Ende: 02.05.2026
 <br /><strong>Link:</strong><br/><a href='https://ortenaukultur.de/de/vera
 nstaltungen/detail/veranstaltung/id/594195-dorfflohmarkt-altdorf/?vt=1'>Zu
 r Detailseite</a>
END:VEVENT
END:VCALENDAR
