BEGIN:VCALENDAR
VERSION:2.0
PRODID:-//ortenaukultur.de//NONSGML kigkonsult.se iCalcreator 2.41.92//
CALSCALE:GREGORIAN
METHOD:PUBLISH
UID:39396532-3562-4539-b566-323432323131
X-WR-TIMEZONE:Europe/Berlin
X-LIC-LOCATION:Europe/Berlin
BEGIN:VEVENT
UID:594249-kulturportal@ortenaukultur.de
DTSTAMP:20260422T085350Z
DESCRIPTION:Kurzbeschreibung:\n Welche Künstlerinnen und Künstler kommen in
  der nächsten Saison nach Achern? Welche Neuerungen gibt es in den kommend
 en Monaten?\n Ort:\n Kulturforum Illenau\n Illenauer Allee 77\, 77855 Ache
 rn\n Veranstalter:\n Stadt Achern - FG 3.3 Kultur\n Termin:\n Beginn: 12.0
 5.2026\, 19:30 Uhr\n Ende: 12.05.2026\n Link:\n Zur Detailseite
DTSTART;TZID=Europe/Berlin:20260512T193000
DTEND;TZID=Europe/Berlin:20260512T223000
LOCATION:Kulturforum Illenau \, Illenauer Allee 77\, 77855 Achern
SUMMARY:Programmpräsentation der neuen Saison 2026 / 2027\, Kulturforum Ill
 enau
X-ALT-DESC;FMTTYPE=text/html:<strong>Kurzbeschreibung:</strong><br/>Welche 
 Künstlerinnen und Künstler kommen in der nächsten Saison nach Achern? Welc
 he Neuerungen gibt es in den kommenden Monaten?<br /><strong>Ort:</strong>
 <br/>Kulturforum Illenau  <br/>Illenauer Allee 77\, 77855 Achern<br /><str
 ong>Veranstalter:</strong><br/>Stadt Achern - FG 3.3 Kultur<br /><strong>T
 ermin:</strong><br/>Beginn: 12.05.2026\, 19:30 Uhr<br/>Ende: 12.05.2026<br
  /><strong>Link:</strong><br/><a href='https://ortenaukultur.de/de/veranst
 altungen/detail/veranstaltung/id/594249-programmpraesentation-der-neuen-sa
 ison-2026-2027/?vt=1'>Zur Detailseite</a>
END:VEVENT
END:VCALENDAR
