BEGIN:VCALENDAR
VERSION:2.0
PRODID:-//ortenaukultur.de//NONSGML kigkonsult.se iCalcreator 2.41.92//
CALSCALE:GREGORIAN
METHOD:PUBLISH
UID:36363239-3332-4366-b439-363065633435
X-WR-TIMEZONE:Europe/Berlin
X-LIC-LOCATION:Europe/Berlin
BEGIN:VEVENT
UID:594332-kulturportal@ortenaukultur.de
DTSTAMP:20260421T174903Z
DESCRIPTION:Kurzbeschreibung:\n Die neue Ausstellung „Mind the Gap“ vor all
 en anderen erleben! Feierliche Eröffnung mit Begrüßung\, Einführung und Mu
 sik.\n Ort:\n Kassenpersonal\n Amand-Goegg-Str.2\, Kulturforum\, 77654 Off
 enburg\n Veranstalter:\n Städtische Galerie Offenburg\n Termin:\n Beginn: 
 08.05.2026\, 19:00 Uhr\n Ende: 08.05.2026\n Link:\n Zur Detailseite
DTSTART;TZID=Europe/Berlin:20260508T190000
DTEND;TZID=Europe/Berlin:20260508T220000
LOCATION:Kassenpersonal\, Amand-Goegg-Str.2\, Kulturforum\, 77654 Offenburg
SUMMARY:Vernissage: Mind the Gap\, Städtische Galerie Offenburg
X-ALT-DESC;FMTTYPE=text/html:<strong>Kurzbeschreibung:</strong><br/>Die neu
 e Ausstellung „Mind the Gap“ vor allen anderen erleben! Feierliche Eröffnu
 ng mit Begrüßung\, Einführung und Musik.<br /><strong>Ort:</strong><br/>Ka
 ssenpersonal<br/>Amand-Goegg-Str.2\, Kulturforum\, 77654 Offenburg<br /><s
 trong>Veranstalter:</strong><br/>Städtische Galerie Offenburg<br /><strong
 >Termin:</strong><br/>Beginn: 08.05.2026\, 19:00 Uhr<br/>Ende: 08.05.2026<
 br /><strong>Link:</strong><br/><a href='https://ortenaukultur.de/de/veran
 staltungen/detail/veranstaltung/id/594332-vernissage-mind-the-gap/?vt=1'>Z
 ur Detailseite</a>
END:VEVENT
END:VCALENDAR
