BEGIN:VCALENDAR
VERSION:2.0
PRODID:-//ortenaukultur.de//NONSGML kigkonsult.se iCalcreator 2.41.92//
CALSCALE:GREGORIAN
METHOD:PUBLISH
UID:32643564-3933-4237-a539-663136323835
X-WR-TIMEZONE:Europe/Berlin
X-LIC-LOCATION:Europe/Berlin
BEGIN:VEVENT
UID:595009-kulturportal@ortenaukultur.de
DTSTAMP:20260421T214120Z
DESCRIPTION:Kurzbeschreibung:\n Rockige und handgemachte Musik \, die durch
  die Instrumentierung mit Banjo\, Akkordeon und mehrstimmigen Gesang sehr 
 abwechslungsreich ist\n Ort:\n KiK - Kultur in der Kaserne\n Weingartenstr
 aße 34 c\, 77654 Offenburg\n Veranstalter:\n KiK - Kultur in der Kaserne\n
  Termin:\n Beginn: 09.05.2026\, 21:00 Uhr\n Ende: 10.05.2026\n Link:\n Zur
  Detailseite
DTSTART;TZID=Europe/Berlin:20260509T210000
DTEND;TZID=Europe/Berlin:20260510T000000
LOCATION:KiK - Kultur in der Kaserne\, Weingartenstraße 34 c\, 77654 Offenb
 urg
SUMMARY:Konzert Blackwood Mary\, KiK - Kultur in der Kaserne
X-ALT-DESC;FMTTYPE=text/html:<strong>Kurzbeschreibung:</strong><br/>Rockige
  und handgemachte Musik \, die durch die Instrumentierung mit Banjo\, Akko
 rdeon und mehrstimmigen Gesang sehr abwechslungsreich ist<br /><strong>Ort
 :</strong><br/>KiK - Kultur in der Kaserne<br/>Weingartenstraße 34 c\, 776
 54 Offenburg<br /><strong>Veranstalter:</strong><br/>KiK - Kultur in der K
 aserne<br /><strong>Termin:</strong><br/>Beginn: 09.05.2026\, 21:00 Uhr<br
 />Ende: 10.05.2026<br /><strong>Link:</strong><br/><a href='https://ortena
 ukultur.de/de/veranstaltungen/detail/veranstaltung/id/595009-konzert-black
 wood-mary/?vt=1'>Zur Detailseite</a>
END:VEVENT
END:VCALENDAR
