BEGIN:VCALENDAR
VERSION:2.0
PRODID:-//ortenaukultur.de//NONSGML kigkonsult.se iCalcreator 2.41.92//
CALSCALE:GREGORIAN
METHOD:PUBLISH
UID:32366630-3135-4036-b963-626438633466
X-WR-TIMEZONE:Europe/Berlin
X-LIC-LOCATION:Europe/Berlin
BEGIN:VEVENT
UID:595010-kulturportal@ortenaukultur.de
DTSTAMP:20260421T172551Z
DESCRIPTION:Kurzbeschreibung:\n Filmreihe Hommage ans Kino - die Kindheit u
 nd die Karriere von Steven Spielberg\n Ort:\n KiK - Kultur in der Kaserne
 \n Weingartenstraße 34 c\, 77654 Offenburg\n Veranstalter:\n KiK - Kultur 
 in der Kaserne\n Termin:\n Beginn: 13.05.2026\, 20:00 Uhr\n Ende: 13.05.20
 26\n Link:\n Zur Detailseite
DTSTART;TZID=Europe/Berlin:20260513T200000
DTEND;TZID=Europe/Berlin:20260513T230000
LOCATION:KiK - Kultur in der Kaserne\, Weingartenstraße 34 c\, 77654 Offenb
 urg
SUMMARY:40 Jahre Kommunales Kino: Film - Die Fabelmans\, KiK - Kultur in de
 r Kaserne
X-ALT-DESC;FMTTYPE=text/html:<strong>Kurzbeschreibung:</strong><br/>Filmrei
 he Hommage ans Kino - die Kindheit und die Karriere von Steven Spielberg<b
 r /><strong>Ort:</strong><br/>KiK - Kultur in der Kaserne<br/>Weingartenst
 raße 34 c\, 77654 Offenburg<br /><strong>Veranstalter:</strong><br/>KiK - 
 Kultur in der Kaserne<br /><strong>Termin:</strong><br/>Beginn: 13.05.2026
 \, 20:00 Uhr<br/>Ende: 13.05.2026<br /><strong>Link:</strong><br/><a href=
 'https://ortenaukultur.de/de/veranstaltungen/detail/veranstaltung/id/59501
 0-40-jahre-kommunales-kino-film-die-fabelmans/?vt=1'>Zur Detailseite</a>
END:VEVENT
END:VCALENDAR
