BEGIN:VCALENDAR
VERSION:2.0
PRODID:-//ortenaukultur.de//NONSGML kigkonsult.se iCalcreator 2.41.92//
CALSCALE:GREGORIAN
METHOD:PUBLISH
UID:34343839-3337-4765-a134-346535616533
X-WR-TIMEZONE:Europe/Berlin
X-LIC-LOCATION:Europe/Berlin
BEGIN:VEVENT
UID:595073-kulturportal@ortenaukultur.de
DTSTAMP:20260422T004757Z
DESCRIPTION:Kurzbeschreibung:\n Stefan Polap und seine Schwarzwaldmusikkant
 en bereichern die Reihe der Promenadenkonzerte\n Ort:\n Klostergarten\n Kl
 osterstraße 1\, 77716 Haslach\n Veranstalter:\n Stadt Haslach - Kultur und
  Marketing\n Termin:\n Beginn: 13.05.2026\, 19:30 Uhr\n Ende: 13.05.2026\n
  Link:\n Zur Detailseite
DTSTART;TZID=Europe/Berlin:20260513T193000
DTEND;TZID=Europe/Berlin:20260513T223000
LOCATION:Klostergarten\, Klosterstraße 1\, 77716 Haslach
SUMMARY:Promenadenkonzert Stefan Polap und seine Schwarzwaldmusikanten\, Kl
 ostergarten
X-ALT-DESC;FMTTYPE=text/html:<strong>Kurzbeschreibung:</strong><br/>Stefan 
 Polap und seine Schwarzwaldmusikkanten bereichern die Reihe der Promenaden
 konzerte<br /><strong>Ort:</strong><br/>Klostergarten<br/>Klosterstraße 1\
 , 77716 Haslach<br /><strong>Veranstalter:</strong><br/>Stadt Haslach - Ku
 ltur und Marketing<br /><strong>Termin:</strong><br/>Beginn: 13.05.2026\, 
 19:30 Uhr<br/>Ende: 13.05.2026<br /><strong>Link:</strong><br/><a href='ht
 tps://ortenaukultur.de/de/veranstaltungen/detail/veranstaltung/id/595073-p
 romenadenkonzert-stefan-polap-und-seine-schwarzwaldmusikanten/?vt=1'>Zur D
 etailseite</a>
END:VEVENT
END:VCALENDAR
