BEGIN:VCALENDAR
VERSION:2.0
PRODID:-//ortenaukultur.de//NONSGML kigkonsult.se iCalcreator 2.41.92//
CALSCALE:GREGORIAN
METHOD:PUBLISH
UID:63653536-6264-4363-b531-656237343437
X-WR-TIMEZONE:Europe/Berlin
X-LIC-LOCATION:Europe/Berlin
BEGIN:VEVENT
UID:595103-kulturportal@ortenaukultur.de
DTSTAMP:20260422T092307Z
DESCRIPTION:Kurzbeschreibung:\n Mach mit beim „Stadtradeln in der Ortenau“ 
 – gemeinsam möchten wir in die Pedale treten\, Kilometer sammeln und unser
 e Region umweltfreundlicher machen!\n Ort:\n Naturzentrum Rheinauen\n Allm
 endweg 5\, 77977 Rust\n Veranstalter:\n Gemeinde Rust\n Termin:\n Beginn: 
 06.05.2026\, 16:00 Uhr\n Ende: 06.05.2026\n Tickets:\n https://www.unser-f
 erienprogramm.de/naturzentrum-rheinauen/index.php\n https://www.unser-feri
 enprogramm.de/naturzentrum-rheinauen/index.php\n 5\,-€/TeilnehmerIn\n Link
 :\n Zur Detailseite
DTSTART;TZID=Europe/Berlin:20260506T160000
DTEND;TZID=Europe/Berlin:20260506T190000
LOCATION:Naturzentrum Rheinauen\, Allmendweg 5\, 77977 Rust
SUMMARY:Ranger-Radwanderung: Stadtradeln für Jung und Alt\, Naturzentrum Rh
 einauen
X-ALT-DESC;FMTTYPE=text/html:<strong>Kurzbeschreibung:</strong><br/>Mach mi
 t beim „Stadtradeln in der Ortenau“ – gemeinsam möchten wir in die Pedale 
 treten\, Kilometer sammeln und unsere Region umweltfreundlicher machen!<br
  /><strong>Ort:</strong><br/>Naturzentrum Rheinauen<br/>Allmendweg 5\, 779
 77 Rust<br /><strong>Veranstalter:</strong><br/>Gemeinde Rust<br /><strong
 >Termin:</strong><br/>Beginn: 06.05.2026\, 16:00 Uhr<br/>Ende: 06.05.2026<
 br /><strong>Tickets: </strong><br/><a  class='wco_cb_subtitle_link'  id='
 ticketlink'  href='https://www.unser-ferienprogramm.de/naturzentrum-rheina
 uen/index.php' target='_blank' title='Link zur Online-Anmeldung'>https://w
 ww.unser-ferienprogramm.de/naturzentrum-rheinauen/index.php</a><br/>https:
 //www.unser-ferienprogramm.de/naturzentrum-rheinauen/index.php<br/>5\,-€/T
 eilnehmerIn<br /><strong>Link:</strong><br/><a href='https://ortenaukultur
 .de/de/veranstaltungen/detail/veranstaltung/id/595103-ranger-radwanderung-
 stadtradeln-fuer-jung-und-alt/?vt=1'>Zur Detailseite</a>
END:VEVENT
END:VCALENDAR
