BEGIN:VCALENDAR
VERSION:2.0
PRODID:-//ortenaukultur.de//NONSGML kigkonsult.se iCalcreator 2.41.92//
CALSCALE:GREGORIAN
METHOD:PUBLISH
UID:33633130-3763-4639-a430-393962646534
X-WR-TIMEZONE:Europe/Berlin
X-LIC-LOCATION:Europe/Berlin
BEGIN:VEVENT
UID:595128-kulturportal@ortenaukultur.de
DTSTAMP:20260421T213835Z
DESCRIPTION:Kurzbeschreibung:\n Ein tief beeindruckendes Werk mit überkonfe
 ssionellen Heilsaussagen\, das zu Bachs bedeutendsten Werken zählt.\n Ort:
 \n Kath. St. Johannes Nepomuk Kirche\, Kehl\n Veranstalter:\n Singakademie
  Ortenau e.V\n Termin:\n Beginn: 09.05.2026\, 19:00 Uhr\n Ende: 09.05.2026
 \n Tickets:\n über www.reservix.de oder an der Abendkasse\n https://www.re
 servix.de\n 20 bis 25 Euro\n Link:\n Zur Detailseite
DTSTART;TZID=Europe/Berlin:20260509T190000
DTEND;TZID=Europe/Berlin:20260509T220000
LOCATION:Kath. St. Johannes Nepomuk Kirche\, Kehl
SUMMARY:Oratorium Bach h-Moll Messe\, Kath. St. Johannes Nepomuk Kirche
X-ALT-DESC;FMTTYPE=text/html:<strong>Kurzbeschreibung:</strong><br/>Ein tie
 f beeindruckendes Werk mit überkonfessionellen Heilsaussagen\, das zu Bach
 s bedeutendsten Werken zählt. <br /><strong>Ort:</strong><br/>Kath. St. Jo
 hannes Nepomuk Kirche\, Kehl<br /><strong>Veranstalter:</strong><br/>Singa
 kademie Ortenau e.V<br /><strong>Termin:</strong><br/>Beginn: 09.05.2026\,
  19:00 Uhr<br/>Ende: 09.05.2026<br /><strong>Tickets: </strong><br/><a  cl
 ass='wco_cb_subtitle_link'  id='ticketlink'  href='https://www.reservix.de
 ' target='_blank' title='Öffnet externen Link in einem neuen Fenster'>über
  www.reservix.de oder an der Abendkasse</a><br/>https://www.reservix.de<br
 />20 bis 25 Euro<br /><strong>Link:</strong><br/><a href='https://ortenauk
 ultur.de/de/veranstaltungen/detail/veranstaltung/id/595128-oratorium-bach-
 h-moll-messe/?vt=1'>Zur Detailseite</a>
END:VEVENT
END:VCALENDAR
