BEGIN:VCALENDAR
VERSION:2.0
PRODID:-//ortenaukultur.de//NONSGML kigkonsult.se iCalcreator 2.41.92//
CALSCALE:GREGORIAN
METHOD:PUBLISH
UID:33633263-3561-4238-a663-623939373165
X-WR-TIMEZONE:Europe/Berlin
X-LIC-LOCATION:Europe/Berlin
BEGIN:VEVENT
UID:595150-kulturportal@ortenaukultur.de
DTSTAMP:20260421T214154Z
DESCRIPTION:Kurzbeschreibung:\n Unter dem Licht des Vollmonds entfaltet sic
 h in Ettenheim eine besondere Atmosphäre.\n Blitzinfo:\n Zusatztermin\n Or
 t:\n Marienbrunnen (Am Marienbrunnen 1)\, Ettenheim\n Veranstalter:\n Stad
 t Ettenheim (LS)\n Termin:\n Beginn: 30.04.2026\, 20:00 Uhr\n Ende: 30.04.
 2026\n Tickets:\n 7\,- € pro Person (nicht für Kinder geeignet)\n Anmeldun
 g erforderlich im Rathaus - Bürgerbüro oder unter tourist-info@ettenheim.d
 e\n Link:\n Zur Detailseite
DTSTART;TZID=Europe/Berlin:20260430T200000
DTEND;TZID=Europe/Berlin:20260430T230000
LOCATION:Marienbrunnen (Am Marienbrunnen 1)\, Ettenheim
SUMMARY:Vollmondführung durch die Ettenheimer Innenstadt\, Marienbrunnen (A
 m Marienbrunnen 1)
X-ALT-DESC;FMTTYPE=text/html:<strong>Kurzbeschreibung:</strong><br/>Unter d
 em Licht des Vollmonds entfaltet sich in Ettenheim eine besondere Atmosphä
 re. <br /><strong>Blitzinfo:</strong><br/>Zusatztermin<br /><strong>Ort:</
 strong><br/>Marienbrunnen (Am Marienbrunnen 1)\, Ettenheim<br /><strong>Ve
 ranstalter:</strong><br/>Stadt Ettenheim (LS)<br /><strong>Termin:</strong
 ><br/>Beginn: 30.04.2026\, 20:00 Uhr<br/>Ende: 30.04.2026<br /><strong>Tic
 kets: </strong><br/>7\,- € pro Person (nicht für Kinder geeignet)<br />\nA
 nmeldung erforderlich im Rathaus -  Bürgerbüro oder unter tourist-info@ett
 enheim.de<br /><strong>Link:</strong><br/><a href='https://ortenaukultur.d
 e/de/veranstaltungen/detail/veranstaltung/id/595150-vollmondfuehrung-durch
 -die-ettenheimer-innenstadt/?vt=1'>Zur Detailseite</a>
END:VEVENT
END:VCALENDAR
