BEGIN:VCALENDAR
VERSION:2.0
PRODID:-//ortenaukultur.de//NONSGML kigkonsult.se iCalcreator 2.41.92//
CALSCALE:GREGORIAN
METHOD:PUBLISH
UID:38353630-3539-4436-a361-613331626535
X-WR-TIMEZONE:Europe/Berlin
X-LIC-LOCATION:Europe/Berlin
BEGIN:VEVENT
UID:595163-kulturportal@ortenaukultur.de
DTSTAMP:20260422T005650Z
DESCRIPTION:Kurzbeschreibung:\n Ein bedeutender Beitrag zur Stärkung demokr
 atischer Werte in der Stadt\, mit vielfältigen Veranstaltungen und Aktione
 n.\n Ort:\n mehrere Veranstaltungsorte\, Ettenheim\n Veranstalter:\n Bündn
 is Demokratie Ettenheim\n Termin:\n Beginn: 17.05.2026\n Ende: 17.05.2026
 \n Link:\n Zur Detailseite
DTSTART;TZID=Europe/Berlin:20260517T000000
DTEND;TZID=Europe/Berlin:20260517T030000
LOCATION:mehrere Veranstaltungsorte\, Ettenheim
SUMMARY:Woche der Demokratie\, mehrere Veranstaltungsorte
X-ALT-DESC;FMTTYPE=text/html:<strong>Kurzbeschreibung:</strong><br/>Ein bed
 eutender Beitrag zur Stärkung demokratischer Werte in der Stadt\, mit viel
 fältigen Veranstaltungen und Aktionen.<br /><strong>Ort:</strong><br/>mehr
 ere Veranstaltungsorte\, Ettenheim<br /><strong>Veranstalter:</strong><br/
 >Bündnis Demokratie Ettenheim<br /><strong>Termin:</strong><br/>Beginn: 17
 .05.2026<br/>Ende: 17.05.2026<br /><strong>Link:</strong><br/><a href='htt
 ps://ortenaukultur.de/de/veranstaltungen/detail/veranstaltung/id/595163-wo
 che-der-demokratie/?vt=1'>Zur Detailseite</a>
END:VEVENT
END:VCALENDAR
