BEGIN:VCALENDAR
VERSION:2.0
PRODID:-//ortenaukultur.de//NONSGML kigkonsult.se iCalcreator 2.41.92//
CALSCALE:GREGORIAN
METHOD:PUBLISH
UID:33343033-3865-4633-b636-366561626431
X-WR-TIMEZONE:Europe/Berlin
X-LIC-LOCATION:Europe/Berlin
BEGIN:VEVENT
UID:595168-kulturportal@ortenaukultur.de
DTSTAMP:20260422T024003Z
DESCRIPTION:Kurzbeschreibung:\n Ein bedeutender Beitrag zur Stärkung demokr
 atischer Werte in der Stadt\, mit vielfältigen Veranstaltungen und Aktione
 n.\n Ort:\n mehrere Veranstaltungsorte\, Ettenheim\n Veranstalter:\n Bündn
 is Demokratie Ettenheim\n Termin:\n Beginn: 24.05.2026\, 15:00 Uhr\n Ende:
  24.05.2026\n Link:\n Zur Detailseite
DTSTART;TZID=Europe/Berlin:20260524T150000
DTEND;TZID=Europe/Berlin:20260524T180000
LOCATION:mehrere Veranstaltungsorte\, Ettenheim
SUMMARY:Woche der Demokratie\, mehrere Veranstaltungsorte
X-ALT-DESC;FMTTYPE=text/html:<strong>Kurzbeschreibung:</strong><br/>Ein bed
 eutender Beitrag zur Stärkung demokratischer Werte in der Stadt\, mit viel
 fältigen Veranstaltungen und Aktionen.<br /><strong>Ort:</strong><br/>mehr
 ere Veranstaltungsorte\, Ettenheim<br /><strong>Veranstalter:</strong><br/
 >Bündnis Demokratie Ettenheim<br /><strong>Termin:</strong><br/>Beginn: 24
 .05.2026\, 15:00 Uhr<br/>Ende: 24.05.2026<br /><strong>Link:</strong><br/>
 <a href='https://ortenaukultur.de/de/veranstaltungen/detail/veranstaltung/
 id/595168-woche-der-demokratie/?vt=1'>Zur Detailseite</a>
END:VEVENT
END:VCALENDAR
