BEGIN:VCALENDAR
VERSION:2.0
PRODID:-//ortenaukultur.de//NONSGML kigkonsult.se iCalcreator 2.41.92//
CALSCALE:GREGORIAN
METHOD:PUBLISH
UID:32383938-6363-4666-a334-306532616262
X-WR-TIMEZONE:Europe/Berlin
X-LIC-LOCATION:Europe/Berlin
BEGIN:VEVENT
UID:99030-kulturportal@ortenaukultur.de
DTSTAMP:20260421T172419Z
DESCRIPTION:Kurzbeschreibung:\n Festgottesdienst in der Pfarrkirche\, Aufma
 rsch Bürgerwehr u. Miliz- und Trachtenkapelle. Fahnenparade u. Ehrensalven
 . Blumenteppiche zieren den Prozessionsweg.\n Ort:\n Pfarrkirche St. Gallu
 s sowie Prozessionsweg\n Dorf 44\, 77784 Oberharmersbach\n Veranstalter:\n
  Kath. Pfarrgemeinde St. Gallus Oberharmersbach\n Termin:\n Beginn: 04.06.
 2026\n Ende: 04.06.2026\n Link:\n Zur Detailseite
DTSTART;TZID=Europe/Berlin:20260604T000000
DTEND;TZID=Europe/Berlin:20260604T030000
LOCATION:Pfarrkirche St. Gallus sowie Prozessionsweg\, Dorf 44\, 77784 Ober
 harmersbach
SUMMARY:Fronleichnam in Oberharmersbach \, Pfarrkirche St. Gallus
X-ALT-DESC;FMTTYPE=text/html:<strong>Kurzbeschreibung:</strong><br/>Festgot
 tesdienst in der Pfarrkirche\, Aufmarsch Bürgerwehr u. Miliz- und Trachten
 kapelle. Fahnenparade u. Ehrensalven. Blumenteppiche zieren den Prozession
 sweg.<br /><strong>Ort:</strong><br/>Pfarrkirche St. Gallus sowie Prozessi
 onsweg<br/>Dorf 44\, 77784 Oberharmersbach<br /><strong>Veranstalter:</str
 ong><br/>Kath. Pfarrgemeinde St. Gallus Oberharmersbach<br /><strong>Termi
 n:</strong><br/>Beginn: 04.06.2026<br/>Ende: 04.06.2026<br /><strong>Link:
 </strong><br/><a href='https://ortenaukultur.de/de/veranstaltungen/detail/
 veranstaltung/id/99030-fronleichnam-in-oberharmersbach/?vt=1'>Zur Detailse
 ite</a>
END:VEVENT
END:VCALENDAR
