BEGIN:VCALENDAR
VERSION:2.0
PRODID:-//ortenaukultur.de//NONSGML kigkonsult.se iCalcreator 2.41.92//
CALSCALE:GREGORIAN
METHOD:PUBLISH
UID:30613336-6535-4434-a238-653936656437
X-WR-TIMEZONE:Europe/Berlin
X-LIC-LOCATION:Europe/Berlin
BEGIN:VEVENT
UID:547767-kulturportal@ortenaukultur.de
DTSTAMP:20260422T004807Z
DESCRIPTION:Kurzbeschreibung:\n KI – Echt jetzt? Proben: montags\, 16:00-17
 :30 Uhr Start: 23.09.2024 ab 12 Jahren\n Ort:\n Schlachthof\n Dreyspringst
 r. 16\, 77933 Lahr\n Veranstalter:\n BABEL Junges Theater BAden ALsace - L
 ahr\n Termin:\n Beginn: 22.09.2025\, 16:00 Uhr\n Ende: 22.09.2025\n Ticket
 s:\n Tickets\n Kostenlos\, Anmeldung erforderlich\n Link:\n Zur Detailseit
 e
DTSTART;TZID=Europe/Berlin:20250922T160000
DTEND;TZID=Europe/Berlin:20250922T190000
LOCATION:Schlachthof \, Dreyspringstr. 16\, 77933 Lahr
SUMMARY:Babel Jugendclub\, Schlachthof
X-ALT-DESC;FMTTYPE=text/html:<strong>Kurzbeschreibung:</strong><br/>KI – Ec
 ht jetzt?\n\nProben: montags\, 16:00-17:30 Uhr\nStart: 23.09.2024\nab 12 J
 ahren<br /><strong>Ort:</strong><br/>Schlachthof <br/>Dreyspringstr. 16\, 
 77933 Lahr<br /><strong>Veranstalter:</strong><br/>BABEL Junges Theater BA
 den ALsace - Lahr<br /><strong>Termin:</strong><br/>Beginn: 22.09.2025\, 1
 6:00 Uhr<br/>Ende: 22.09.2025<br /><strong>Tickets: </strong><br/><a  clas
 s='wco_cb_subtitle_link'  id='ticketlink'  href='mailto:annika.schneiderst
 amm(at)theater-baden-alsace.com' target='_blank' >Tickets</a><br/>Kostenlo
 s\, Anmeldung erforderlich<br /><strong>Link:</strong><br/><a href='https:
 //ortenaukultur.de/de/veranstaltungen/detail/veranstaltung/id/547767-babel
 -jugendclub/?vt=1'>Zur Detailseite</a>
END:VEVENT
END:VCALENDAR
