BEGIN:VCALENDAR
VERSION:2.0
PRODID:-//ortenaukultur.de//NONSGML kigkonsult.se iCalcreator 2.41.92//
CALSCALE:GREGORIAN
METHOD:PUBLISH
UID:32343835-3564-4565-b836-333264376234
X-WR-TIMEZONE:Europe/Berlin
X-LIC-LOCATION:Europe/Berlin
BEGIN:VEVENT
UID:581703-kulturportal@ortenaukultur.de
DTSTAMP:20260421T225608Z
DESCRIPTION:Kurzbeschreibung:\n 'Die Kleine Hexe' nach Otfried Preußler. Fr
 eilichttheater für Familien mit Kindern ab 6 Jahren.\n Ort:\n im Garten de
 s 'freche hus'\n Apothekergasse 7\, 77704 Oberkirch\n Veranstalter:\n Jung
 e Bühne der Realschule Oberkirch\n Termin:\n Beginn: 16.07.2026\, 19:00 Uh
 r\n Ende: 16.07.2026\n Link:\n Zur Detailseite
DTSTART;TZID=Europe/Berlin:20260716T190000
DTEND;TZID=Europe/Berlin:20260716T220000
LOCATION:im Garten des 'freche hus'\, Apothekergasse 7\, 77704 Oberkirch
SUMMARY:Junge Bühne: Die Kleine Hexe\, im Garten des 'freche hus'
X-ALT-DESC;FMTTYPE=text/html:<strong>Kurzbeschreibung:</strong><br/>'Die Kl
 eine Hexe' nach Otfried Preußler. Freilichttheater für Familien mit Kinder
 n ab 6 Jahren.<br /><strong>Ort:</strong><br/>im Garten des 'freche hus'<b
 r/>Apothekergasse 7\, 77704 Oberkirch<br /><strong>Veranstalter:</strong><
 br/>Junge Bühne der Realschule Oberkirch<br /><strong>Termin:</strong><br/
 >Beginn: 16.07.2026\, 19:00 Uhr<br/>Ende: 16.07.2026<br /><strong>Link:</s
 trong><br/><a href='https://ortenaukultur.de/de/veranstaltungen/detail/ver
 anstaltung/id/581703-junge-buehne-die-kleine-hexe/?vt=1'>Zur Detailseite</
 a>
END:VEVENT
END:VCALENDAR
