BEGIN:VCALENDAR
VERSION:2.0
PRODID:-//ortenaukultur.de//NONSGML kigkonsult.se iCalcreator 2.41.92//
CALSCALE:GREGORIAN
METHOD:PUBLISH
UID:64643765-6531-4530-a338-333031643334
X-WR-TIMEZONE:Europe/Berlin
X-LIC-LOCATION:Europe/Berlin
BEGIN:VEVENT
UID:585169-kulturportal@ortenaukultur.de
DTSTAMP:20260422T155923Z
DESCRIPTION:Kurzbeschreibung:\n Ein einmaliges\, besonderes musikalisch-the
 atrales Erlebnis für alle ab 4 Jahren.\n Ort:\n Erwin-Braun-Halle\n Querst
 raße 10\, 77704 Oberkirch\n Veranstalter:\n Stadt Oberkirch\n Termin:\n Be
 ginn: 24.10.2026\, 16:00 Uhr\n Ende: 24.10.2026\n Tickets:\n Tickets kaufe
 n\n https://ortenaukultur.reservix.de/p/reservix/event/2499093\n Preise:\n
  bis 9\,00 € + Ermäßigung\n *Preise inkl. MwSt.\n \n Link:\n Zur Detailsei
 te
DTSTART;TZID=Europe/Berlin:20261024T160000
DTEND;TZID=Europe/Berlin:20261024T190000
LOCATION:Erwin-Braun-Halle\, Querstraße 10\, 77704 Oberkirch
SUMMARY:Der Wolf und die sieben Geißlein\, Erwin-Braun-Halle
X-ALT-DESC;FMTTYPE=text/html:<strong>Kurzbeschreibung:</strong><br/>Ein ein
 maliges\, besonderes musikalisch-theatrales Erlebnis für alle ab 4 Jahren.
 <br /><strong>Ort:</strong><br/>Erwin-Braun-Halle<br/>Querstraße 10\, 7770
 4 Oberkirch<br /><strong>Veranstalter:</strong><br/>Stadt Oberkirch<br /><
 strong>Termin:</strong><br/>Beginn: 24.10.2026\, 16:00 Uhr<br/>Ende: 24.10
 .2026<br /><strong>Tickets: </strong><br/><a rel='asdf' href='https://orte
 naukultur.de/de/veranstaltungen/theater/kinder-jugendtheater/detail/ticket
 s/id/585169-der-wolf-und-die-sieben-geisslein/?follow=https%253A%252F%252F
 ortenaukultur.reservix.de%252Fp%252Freservix%252Fevent%252F2499093' target
 ='_blank' title='' id='ticketlink'>Tickets kaufen</a><br/>https://ortenauk
 ultur.reservix.de/p/reservix/event/2499093<br/><b>Preise: </b><br />bis 9\
 ,00 &euro\;&nbsp\; + Ermäßigung<br />*Preise inkl. MwSt.<br /><br /><stron
 g>Link:</strong><br/><a href='https://ortenaukultur.de/de/veranstaltungen/
 detail/veranstaltung/id/585169-der-wolf-und-die-sieben-geisslein/?vt=1'>Zu
 r Detailseite</a>
END:VEVENT
END:VCALENDAR
