BEGIN:VCALENDAR
VERSION:2.0
PRODID:-//ortenaukultur.de//NONSGML kigkonsult.se iCalcreator 2.41.92//
CALSCALE:GREGORIAN
METHOD:PUBLISH
UID:61643339-6166-4364-a133-383431333339
X-WR-TIMEZONE:Europe/Berlin
X-LIC-LOCATION:Europe/Berlin
BEGIN:VEVENT
UID:585179-kulturportal@ortenaukultur.de
DTSTAMP:20260422T135821Z
DESCRIPTION:Kurzbeschreibung:\n Kindertheater ab 3 Jahren nach den Büchern 
 von Sven Nordquist und Jujja Wieslander.\n Ort:\n ´s freche hus\n Apotheke
 rgasse 7\, 77704 Oberkirch\n Veranstalter:\n Stadt Oberkirch\n Termin:\n B
 eginn: 29.11.2026\, 14:00 Uhr\n Ende: 29.11.2026\n Tickets:\n Tickets kauf
 en\n https://ortenaukultur.reservix.de/p/reservix/event/2499134\n Preise:
 \n bis 7\,00 € + Ermäßigung\n *Preise inkl. MwSt.\n \n Link:\n Zur Details
 eite
DTSTART;TZID=Europe/Berlin:20261129T140000
DTEND;TZID=Europe/Berlin:20261129T170000
LOCATION:´s freche hus\, Apothekergasse 7\, 77704 Oberkirch
SUMMARY:Mama Muh im Schnee\, ´s freche hus
X-ALT-DESC;FMTTYPE=text/html:<strong>Kurzbeschreibung:</strong><br/>Kindert
 heater ab 3 Jahren nach den Büchern von Sven Nordquist und Jujja Wieslande
 r.<br /><strong>Ort:</strong><br/>´s freche hus<br/>Apothekergasse 7\, 777
 04 Oberkirch<br /><strong>Veranstalter:</strong><br/>Stadt Oberkirch<br />
 <strong>Termin:</strong><br/>Beginn: 29.11.2026\, 14:00 Uhr<br/>Ende: 29.1
 1.2026<br /><strong>Tickets: </strong><br/><a rel='asdf' href='https://ort
 enaukultur.de/de/veranstaltungen/theater/kinder-jugendtheater/detail/ticke
 ts/id/585179-mama-muh-im-schnee/?follow=https%253A%252F%252Fortenaukultur.
 reservix.de%252Fp%252Freservix%252Fevent%252F2499134' target='_blank' titl
 e='' id='ticketlink'>Tickets kaufen</a><br/>https://ortenaukultur.reservix
 .de/p/reservix/event/2499134<br/><b>Preise: </b><br />bis 7\,00 &euro\;&nb
 sp\; + Ermäßigung<br />*Preise inkl. MwSt.<br /><br /><strong>Link:</stron
 g><br/><a href='https://ortenaukultur.de/de/veranstaltungen/detail/veranst
 altung/id/585179-mama-muh-im-schnee/?vt=1'>Zur Detailseite</a>
END:VEVENT
END:VCALENDAR
