BEGIN:VCALENDAR
VERSION:2.0
PRODID:-//ortenaukultur.de//NONSGML kigkonsult.se iCalcreator 2.41.92//
CALSCALE:GREGORIAN
METHOD:PUBLISH
UID:62663963-3430-4537-b233-303133613139
X-WR-TIMEZONE:Europe/Berlin
X-LIC-LOCATION:Europe/Berlin
BEGIN:VEVENT
UID:590039-kulturportal@ortenaukultur.de
DTSTAMP:20260421T210614Z
DESCRIPTION:Kurzbeschreibung:\n Die Burgbühne Oberkirch zeigt ein fröhlich-
 freches Theaterstück von Kindern für Kinder zum Thema Kranksein und wieder
  Gesundwerden!\n Ort:\n Freche Hus\n Apothekergasse 7\, 77704 Oberkirch\n 
 Veranstalter:\n Burgbühne Oberkirch\n Termin:\n Beginn: 04.12.2026\, 17:00
  Uhr\n Ende: 04.12.2026\n Tickets:\n Tickets kaufen\n https://ortenaukultu
 r.reservix.de/p/reservix/event/2523652\n Preise:\n bis 9\,00 € + Ermäßigun
 g\n *Preise inkl. MwSt.\n \n Link:\n Zur Detailseite
DTSTART;TZID=Europe/Berlin:20261204T170000
DTEND;TZID=Europe/Berlin:20261204T200000
LOCATION:Freche Hus\, Apothekergasse 7\, 77704 Oberkirch
SUMMARY:Rabe Socke - Alles wieder gut!\, Freche Hus
X-ALT-DESC;FMTTYPE=text/html:<strong>Kurzbeschreibung:</strong><br/>Die Bur
 gbühne Oberkirch zeigt ein fröhlich-freches Theaterstück von Kindern für K
 inder zum Thema Kranksein und wieder Gesundwerden! <br /><strong>Ort:</str
 ong><br/>Freche Hus<br/>Apothekergasse 7\, 77704 Oberkirch<br /><strong>Ve
 ranstalter:</strong><br/>Burgbühne Oberkirch<br /><strong>Termin:</strong>
 <br/>Beginn: 04.12.2026\, 17:00 Uhr<br/>Ende: 04.12.2026<br /><strong>Tick
 ets: </strong><br/><a rel='asdf' href='https://ortenaukultur.de/de/veranst
 altungen/theater/kinder-jugendtheater/detail/tickets/id/590039-rabe-socke-
 alles-wieder-gut/?follow=https%253A%252F%252Fortenaukultur.reservix.de%252
 Fp%252Freservix%252Fevent%252F2523652' target='_blank' title='' id='ticket
 link'>Tickets kaufen</a><br/>https://ortenaukultur.reservix.de/p/reservix/
 event/2523652<br/><b>Preise: </b><br />bis 9\,00 &euro\;&nbsp\; + Ermäßigu
 ng<br />*Preise inkl. MwSt.<br /><br /><strong>Link:</strong><br/><a href=
 'https://ortenaukultur.de/de/veranstaltungen/detail/veranstaltung/id/59003
 9-rabe-socke-alles-wieder-gut/?vt=1'>Zur Detailseite</a>
END:VEVENT
END:VCALENDAR
