BEGIN:VCALENDAR
VERSION:2.0
PRODID:-//ortenaukultur.de//NONSGML kigkonsult.se iCalcreator 2.41.92//
CALSCALE:GREGORIAN
METHOD:PUBLISH
UID:62343766-3933-4134-a333-633431343832
X-WR-TIMEZONE:Europe/Berlin
X-LIC-LOCATION:Europe/Berlin
BEGIN:VEVENT
UID:590040-kulturportal@ortenaukultur.de
DTSTAMP:20260422T024327Z
DESCRIPTION:Kurzbeschreibung:\n Die Burgbühne Oberkirch zeigt ein fröhlich-
 freches Theaterstück von Kindern für Kinder zum Thema Kranksein und wieder
  Gesundwerden!\n Ort:\n Freche Hus\n Apothekergasse 7\, 77704 Oberkirch\n 
 Veranstalter:\n Burgbühne Oberkirch\n Termin:\n Beginn: 05.12.2026\, 15:00
  Uhr\n Ende: 05.12.2026\n Tickets:\n Tickets kaufen\n https://ortenaukultu
 r.reservix.de/p/reservix/event/2523653\n Preise:\n bis 9\,00 € + Ermäßigun
 g\n *Preise inkl. MwSt.\n \n Link:\n Zur Detailseite
DTSTART;TZID=Europe/Berlin:20261205T150000
DTEND;TZID=Europe/Berlin:20261205T180000
LOCATION:Freche Hus\, Apothekergasse 7\, 77704 Oberkirch
SUMMARY:Rabe Socke - Alles wieder gut!\, Freche Hus
X-ALT-DESC;FMTTYPE=text/html:<strong>Kurzbeschreibung:</strong><br/>Die Bur
 gbühne Oberkirch zeigt ein fröhlich-freches Theaterstück von Kindern für K
 inder zum Thema Kranksein und wieder Gesundwerden! <br /><strong>Ort:</str
 ong><br/>Freche Hus<br/>Apothekergasse 7\, 77704 Oberkirch<br /><strong>Ve
 ranstalter:</strong><br/>Burgbühne Oberkirch<br /><strong>Termin:</strong>
 <br/>Beginn: 05.12.2026\, 15:00 Uhr<br/>Ende: 05.12.2026<br /><strong>Tick
 ets: </strong><br/><a rel='asdf' href='https://ortenaukultur.de/de/veranst
 altungen/theater/kinder-jugendtheater/detail/tickets/id/590040-rabe-socke-
 alles-wieder-gut/?follow=https%253A%252F%252Fortenaukultur.reservix.de%252
 Fp%252Freservix%252Fevent%252F2523653' target='_blank' title='' id='ticket
 link'>Tickets kaufen</a><br/>https://ortenaukultur.reservix.de/p/reservix/
 event/2523653<br/><b>Preise: </b><br />bis 9\,00 &euro\;&nbsp\; + Ermäßigu
 ng<br />*Preise inkl. MwSt.<br /><br /><strong>Link:</strong><br/><a href=
 'https://ortenaukultur.de/de/veranstaltungen/detail/veranstaltung/id/59004
 0-rabe-socke-alles-wieder-gut/?vt=1'>Zur Detailseite</a>
END:VEVENT
END:VCALENDAR
