BEGIN:VCALENDAR
VERSION:2.0
PRODID:-//ortenaukultur.de//NONSGML kigkonsult.se iCalcreator 2.41.92//
CALSCALE:GREGORIAN
METHOD:PUBLISH
UID:32613336-6637-4065-b764-363631623265
X-WR-TIMEZONE:Europe/Berlin
X-LIC-LOCATION:Europe/Berlin
BEGIN:VEVENT
UID:590858-kulturportal@ortenaukultur.de
DTSTAMP:20260421T172458Z
DESCRIPTION:Kurzbeschreibung:\n Das Regionentheater präsentiert das turbule
 nte Kindertheaterstück „Wickie und die starken Männer“ für Kinder ab 5 Jah
 ren.\n Ort:\n Erwin-Braun-Halle\n Querstraße 10\, 77704 Oberkirch\n Verans
 talter:\n Stadt Oberkirch\n Termin:\n Beginn: 22.10.2026\, 16:00 Uhr\n End
 e: 22.10.2026\n Tickets:\n Tickets kaufen\n https://ortenaukultur.reservix
 .de/p/reservix/event/2535541\n Preise:\n bis 9\,00 € + Ermäßigung\n *Preis
 e inkl. MwSt.\n \n Link:\n Zur Detailseite
DTSTART;TZID=Europe/Berlin:20261022T160000
DTEND;TZID=Europe/Berlin:20261022T190000
LOCATION:Erwin-Braun-Halle\, Querstraße 10\, 77704 Oberkirch
SUMMARY:Wickie und die starken Männer\, Erwin-Braun-Halle
X-ALT-DESC;FMTTYPE=text/html:<strong>Kurzbeschreibung:</strong><br/>Das Reg
 ionentheater präsentiert das turbulente Kindertheaterstück „Wickie und die
  starken Männer“ für Kinder ab 5 Jahren.<br /><strong>Ort:</strong><br/>Er
 win-Braun-Halle<br/>Querstraße 10\, 77704 Oberkirch<br /><strong>Veranstal
 ter:</strong><br/>Stadt Oberkirch<br /><strong>Termin:</strong><br/>Beginn
 : 22.10.2026\, 16:00 Uhr<br/>Ende: 22.10.2026<br /><strong>Tickets: </stro
 ng><br/><a rel='asdf' href='https://ortenaukultur.de/de/veranstaltungen/th
 eater/kinder-jugendtheater/detail/tickets/id/590858-wickie-und-die-starken
 -maenner/?follow=https%253A%252F%252Fortenaukultur.reservix.de%252Fp%252Fr
 eservix%252Fevent%252F2535541' target='_blank' title='' id='ticketlink'>Ti
 ckets kaufen</a><br/>https://ortenaukultur.reservix.de/p/reservix/event/25
 35541<br/><b>Preise: </b><br />bis 9\,00 &euro\;&nbsp\; + Ermäßigung<br />
 *Preise inkl. MwSt.<br /><br /><strong>Link:</strong><br/><a href='https:/
 /ortenaukultur.de/de/veranstaltungen/detail/veranstaltung/id/590858-wickie
 -und-die-starken-maenner/?vt=1'>Zur Detailseite</a>
END:VEVENT
END:VCALENDAR
