BEGIN:VCALENDAR
VERSION:2.0
PRODID:-//ortenaukultur.de//NONSGML kigkonsult.se iCalcreator 2.41.92//
CALSCALE:GREGORIAN
METHOD:PUBLISH
UID:62366565-6532-4735-b539-373965613034
X-WR-TIMEZONE:Europe/Berlin
X-LIC-LOCATION:Europe/Berlin
BEGIN:VEVENT
UID:509644-kulturportal@ortenaukultur.de
DTSTAMP:20260422T074539Z
DESCRIPTION:Kurzbeschreibung:\n Die Besucher können sich an diesem Tag auf 
 eine Ausstellung von Schleppern und UNIMOGS freuen.\n Ort:\n Neue Ortsmitt
 e\n Hauptstraße\, 77781 Biberach\n Veranstalter:\n UNIMOG- und Schlepperfr
 eunde Biberach e.V.\n Termin:\n Beginn: 05.07.2026\, 10:30 Uhr\n Ende: 05.
 07.2026\n Link:\n Zur Detailseite
DTSTART;TZID=Europe/Berlin:20260705T103000
DTEND;TZID=Europe/Berlin:20260705T133000
LOCATION:Neue Ortsmitte\, Hauptstraße\, 77781 Biberach
SUMMARY:UNIMOG- und Schleppertreff\, Neue Ortsmitte
X-ALT-DESC;FMTTYPE=text/html:<strong>Kurzbeschreibung:</strong><br/>Die Bes
 ucher können sich an diesem Tag auf eine Ausstellung von Schleppern und UN
 IMOGS freuen.<br /><strong>Ort:</strong><br/>Neue Ortsmitte<br/>Hauptstraß
 e\, 77781 Biberach<br /><strong>Veranstalter:</strong><br/>UNIMOG- und Sch
 lepperfreunde Biberach e.V.<br /><strong>Termin:</strong><br/>Beginn: 05.0
 7.2026\, 10:30 Uhr<br/>Ende: 05.07.2026<br /><strong>Link:</strong><br/><a
  href='https://ortenaukultur.de/de/veranstaltungen/detail/veranstaltung/id
 /509644-unimog-und-schleppertreff/?vt=1'>Zur Detailseite</a>
END:VEVENT
END:VCALENDAR
