BEGIN:VCALENDAR
VERSION:2.0
PRODID:-//ortenaukultur.de//NONSGML kigkonsult.se iCalcreator 2.41.92//
CALSCALE:GREGORIAN
METHOD:PUBLISH
UID:32383066-6436-4431-b561-653733353530
X-WR-TIMEZONE:Europe/Berlin
X-LIC-LOCATION:Europe/Berlin
BEGIN:VEVENT
UID:570989-kulturportal@ortenaukultur.de
DTSTAMP:20260422T123803Z
DESCRIPTION:Kurzbeschreibung:\n Das collegium musicum Oberkirch beschließt 
 traditionell mit seinem Frühjahrskonzert die Abonnementreihe der Stadt Obe
 rkirch.\n Ort:\n Erwin-Braun-Halle\n Querstraße 10\, 77704 Oberkirch\n Ver
 anstalter:\n Stadt Oberkirch\n Termin:\n Beginn: 10.05.2026\, 19:00 Uhr\n 
 Ende: 10.05.2026\n Tickets:\n Tickets kaufen\n https://ortenaukultur.reser
 vix.de/p/reservix/event/2435586\n Preise:\n bis 19\,00 € + Ermäßigung\n *P
 reise inkl. MwSt.\n \n Link:\n Zur Detailseite
DTSTART;TZID=Europe/Berlin:20260510T190000
DTEND;TZID=Europe/Berlin:20260510T220000
LOCATION:Erwin-Braun-Halle\, Querstraße 10\, 77704 Oberkirch
SUMMARY:Frühjahrskonzert des Orchestervereins collegium musicum\, Erwin-Bra
 un-Halle
X-ALT-DESC;FMTTYPE=text/html:<strong>Kurzbeschreibung:</strong><br/>Das col
 legium musicum Oberkirch beschließt traditionell mit seinem Frühjahrskonze
 rt die Abonnementreihe der Stadt Oberkirch.<br /><strong>Ort:</strong><br/
 >Erwin-Braun-Halle<br/>Querstraße 10\, 77704 Oberkirch<br /><strong>Verans
 talter:</strong><br/>Stadt Oberkirch<br /><strong>Termin:</strong><br/>Beg
 inn: 10.05.2026\, 19:00 Uhr<br/>Ende: 10.05.2026<br /><strong>Tickets: </s
 trong><br/><a rel='asdf' href='https://ortenaukultur.de/de/veranstaltungen
 /theater/theater-amateurtheater/detail/tickets/id/570989-fruehjahrskonzert
 -des-orchestervereins-collegium-musicum/?follow=https%253A%252F%252Fortena
 ukultur.reservix.de%252Fp%252Freservix%252Fevent%252F2435586' target='_bla
 nk' title='' id='ticketlink'>Tickets kaufen</a><br/>https://ortenaukultur.
 reservix.de/p/reservix/event/2435586<br/><b>Preise: </b><br />bis 19\,00 &
 euro\;&nbsp\; + Ermäßigung<br />*Preise inkl. MwSt.<br /><br /><strong>Lin
 k:</strong><br/><a href='https://ortenaukultur.de/de/veranstaltungen/detai
 l/veranstaltung/id/570989-fruehjahrskonzert-des-orchestervereins-collegium
 -musicum/?vt=1'>Zur Detailseite</a>
END:VEVENT
END:VCALENDAR
