BEGIN:VCALENDAR
VERSION:2.0
PRODID:-//ortenaukultur.de//NONSGML kigkonsult.se iCalcreator 2.41.92//
CALSCALE:GREGORIAN
METHOD:PUBLISH
UID:36323261-6332-4432-a564-633165313837
X-WR-TIMEZONE:Europe/Berlin
X-LIC-LOCATION:Europe/Berlin
BEGIN:VEVENT
UID:572802-kulturportal@ortenaukultur.de
DTSTAMP:20260422T123349Z
DESCRIPTION:Kurzbeschreibung:\n Ein italienischer Liederabend von Dietmar L
 oeffler mit Tommaso Cacciapuoti\, Carolin Fortenbacher\, Tim Grobe\, Anika
  Lehmann\, Dietmar Loeffler + einem Live-Koch.\n Ort:\n Oberrheinhalle\n S
 chutterwälder Straße\, Messegelände\, 77656 Offenburg\n Veranstalter:\n Ku
 lturbüro Offenburg\n Termin:\n Beginn: 24.04.2026\, 20:00 Uhr\n Ende: 24.0
 4.2026\n Tickets:\n Tickets kaufen\n https://ortenaukultur.reservix.de/p/r
 eservix/event/2377855\n 1. Kategorie:\n 2. Kategorie:\n bis 25\,20 € + Erm
 äßigung\n 3. Kategorie:\n bis 23\,00 € + Ermäßigung\n *Preise inkl. MwSt.
 \n \n Link:\n Zur Detailseite
DTSTART;TZID=Europe/Berlin:20260424T200000
DTEND;TZID=Europe/Berlin:20260424T230000
LOCATION:Oberrheinhalle\, Schutterwälder Straße\, Messegelände\, 77656 Offe
 nburg
SUMMARY:Oberrhein Theaterreihe - Pasta e Basta\, Oberrheinhalle
X-ALT-DESC;FMTTYPE=text/html:<strong>Kurzbeschreibung:</strong><br/>Ein ita
 lienischer Liederabend von Dietmar Loeffler\nmit Tommaso Cacciapuoti\, Car
 olin Fortenbacher\, Tim Grobe\, Anika Lehmann\, Dietmar Loeffler + einem L
 ive-Koch.<br /><strong>Ort:</strong><br/>Oberrheinhalle<br/>Schutterwälder
  Straße\, Messegelände\, 77656 Offenburg<br /><strong>Veranstalter:</stron
 g><br/>Kulturbüro Offenburg<br /><strong>Termin:</strong><br/>Beginn: 24.0
 4.2026\, 20:00 Uhr<br/>Ende: 24.04.2026<br /><strong>Tickets: </strong><br
 /><a rel='asdf' href='https://ortenaukultur.de/de/veranstaltungen/theater/
 theater-amateurtheater/detail/tickets/id/572802-oberrhein-theaterreihe-pas
 ta-e-basta/?follow=https%253A%252F%252Fortenaukultur.reservix.de%252Fp%252
 Freservix%252Fevent%252F2377855' target='_blank' title='' id='ticketlink'>
 Tickets kaufen</a><br/>https://ortenaukultur.reservix.de/p/reservix/event/
 2377855<br/><b>1. Kategorie: </b><br /><b>2. Kategorie: </b><br />bis 25\,
 20 &euro\;&nbsp\; + Ermäßigung<br /><b>3. Kategorie: </b><br />bis 23\,00 
 &euro\;&nbsp\; + Ermäßigung<br />*Preise inkl. MwSt.<br /><br /><strong>Li
 nk:</strong><br/><a href='https://ortenaukultur.de/de/veranstaltungen/deta
 il/veranstaltung/id/572802-oberrhein-theaterreihe-pasta-e-basta/?vt=1'>Zur
  Detailseite</a>
END:VEVENT
END:VCALENDAR
