BEGIN:VCALENDAR
VERSION:2.0
PRODID:-//ortenaukultur.de//NONSGML kigkonsult.se iCalcreator 2.41.92//
CALSCALE:GREGORIAN
METHOD:PUBLISH
UID:37343631-3433-4134-a362-636639613163
X-WR-TIMEZONE:Europe/Berlin
X-LIC-LOCATION:Europe/Berlin
BEGIN:VEVENT
UID:582090-kulturportal@ortenaukultur.de
DTSTAMP:20260422T005900Z
DESCRIPTION:Kurzbeschreibung:\n Eine Geschichte von Jürgen von Bülow über L
 ebenslust\, List und Leidenschaft - mitten im Schwarzwald. Inszeniert von 
 der Burgbühne Oberkirch.\n Ort:\n im Garten des 'freche hus'\n Apothekerga
 sse 7\, 77704 Oberkirch\n Veranstalter:\n Burgbühne Oberkirch\n Termin:\n 
 Beginn: 21.06.2026\, 19:00 Uhr\n Ende: 21.06.2026\n Tickets:\n Tickets kau
 fen\n https://ortenaukultur.reservix.de/p/reservix/event/2523776\n Preise:
 \n bis 16\,00 € + Ermäßigung\n *Preise inkl. MwSt.\n \n Link:\n Zur Detail
 seite
DTSTART;TZID=Europe/Berlin:20260621T190000
DTEND;TZID=Europe/Berlin:20260621T220000
LOCATION:im Garten des 'freche hus'\, Apothekergasse 7\, 77704 Oberkirch
SUMMARY:Annas Herzstück (Freilichttheater)\, im Garten des 'freche hus'
X-ALT-DESC;FMTTYPE=text/html:<strong>Kurzbeschreibung:</strong><br/>Eine Ge
 schichte von Jürgen von Bülow über Lebenslust\, List und Leidenschaft - mi
 tten im Schwarzwald. Inszeniert von der Burgbühne Oberkirch.<br /><strong>
 Ort:</strong><br/>im Garten des 'freche hus'<br/>Apothekergasse 7\, 77704 
 Oberkirch<br /><strong>Veranstalter:</strong><br/>Burgbühne Oberkirch<br /
 ><strong>Termin:</strong><br/>Beginn: 21.06.2026\, 19:00 Uhr<br/>Ende: 21.
 06.2026<br /><strong>Tickets: </strong><br/><a rel='asdf' href='https://or
 tenaukultur.de/de/veranstaltungen/theater/theater-amateurtheater/detail/ti
 ckets/id/582090-annas-herzstueck-freilichttheater/?follow=https%253A%252F%
 252Fortenaukultur.reservix.de%252Fp%252Freservix%252Fevent%252F2523776' ta
 rget='_blank' title='' id='ticketlink'>Tickets kaufen</a><br/>https://orte
 naukultur.reservix.de/p/reservix/event/2523776<br/><b>Preise: </b><br />bi
 s 16\,00 &euro\;&nbsp\; + Ermäßigung<br />*Preise inkl. MwSt.<br /><br /><
 strong>Link:</strong><br/><a href='https://ortenaukultur.de/de/veranstaltu
 ngen/detail/veranstaltung/id/582090-annas-herzstueck-freilichttheater/?vt=
 1'>Zur Detailseite</a>
END:VEVENT
END:VCALENDAR
