BEGIN:VCALENDAR
VERSION:2.0
PRODID:-//ortenaukultur.de//NONSGML kigkonsult.se iCalcreator 2.41.92//
CALSCALE:GREGORIAN
METHOD:PUBLISH
UID:65353162-6464-4236-b434-633639393238
X-WR-TIMEZONE:Europe/Berlin
X-LIC-LOCATION:Europe/Berlin
BEGIN:VEVENT
UID:585105-kulturportal@ortenaukultur.de
DTSTAMP:20260422T005952Z
DESCRIPTION:Kurzbeschreibung:\n Adventsmarkt rund um den Gengenbacher Adven
 tskalender mit verschiedenen Ständen\, stimmungsvoller Beleuchtung und wei
 hnachtlichem Ambiente\n Ort:\n Historischer Marktplatz Gengenbach\n Haupts
 tr.\, 77723 Gengenbach\n Veranstalter:\n Adventskalenderverein Gengenbach
 \n Termin:\n Beginn: 27.11.2026\n Ende: 27.11.2026\n Link:\n Zur Detailsei
 te
DTSTART;TZID=Europe/Berlin:20261127T000000
DTEND;TZID=Europe/Berlin:20261127T030000
LOCATION:Historischer Marktplatz Gengenbach\, Hauptstr.\, 77723 Gengenbach
SUMMARY:Gengenbacher Adventsmarkt\, Historischer Marktplatz Gengenbach
X-ALT-DESC;FMTTYPE=text/html:<strong>Kurzbeschreibung:</strong><br/>Advents
 markt rund um den Gengenbacher Adventskalender mit verschiedenen Ständen\,
  stimmungsvoller Beleuchtung und weihnachtlichem Ambiente<br /><strong>Ort
 :</strong><br/>Historischer Marktplatz Gengenbach<br/>Hauptstr.\, 77723 Ge
 ngenbach<br /><strong>Veranstalter:</strong><br/>Adventskalenderverein Gen
 genbach<br /><strong>Termin:</strong><br/>Beginn: 27.11.2026<br/>Ende: 27.
 11.2026<br /><strong>Link:</strong><br/><a href='https://ortenaukultur.de/
 de/veranstaltungen/detail/veranstaltung/id/585105-gengenbacher-adventsmark
 t/?vt=1'>Zur Detailseite</a>
END:VEVENT
END:VCALENDAR
