BEGIN:VCALENDAR
VERSION:2.0
PRODID:-//ortenaukultur.de//NONSGML kigkonsult.se iCalcreator 2.41.92//
CALSCALE:GREGORIAN
METHOD:PUBLISH
UID:64636335-3532-4133-b335-616535393262
X-WR-TIMEZONE:Europe/Berlin
X-LIC-LOCATION:Europe/Berlin
BEGIN:VEVENT
UID:585116-kulturportal@ortenaukultur.de
DTSTAMP:20260422T024405Z
DESCRIPTION:Kurzbeschreibung:\n Das Weihnachtsprogramm von piano.vocal\, Ca
 rsten Dittrich und Anne Schmidt-Heinrich.\n Ort:\n ´s freche hus\n Apothek
 ergasse 7\, 77704 Oberkirch\n Veranstalter:\n Stadt Oberkirch\n Termin:\n 
 Beginn: 10.12.2026\, 20:00 Uhr\n Ende: 10.12.2026\n Tickets:\n Tickets kau
 fen\n https://ortenaukultur.reservix.de/p/reservix/event/2498867\n Preise:
 \n bis 16\,00 € + Ermäßigung\n *Preise inkl. MwSt.\n \n Link:\n Zur Detail
 seite
DTSTART;TZID=Europe/Berlin:20261210T200000
DTEND;TZID=Europe/Berlin:20261210T230000
LOCATION:´s freche hus\, Apothekergasse 7\, 77704 Oberkirch
SUMMARY:Piano.vocal - A christmas carol\, ´s freche hus
X-ALT-DESC;FMTTYPE=text/html:<strong>Kurzbeschreibung:</strong><br/>Das Wei
 hnachtsprogramm von piano.vocal\, Carsten Dittrich und Anne Schmidt-Heinri
 ch.<br /><strong>Ort:</strong><br/>´s freche hus<br/>Apothekergasse 7\, 77
 704 Oberkirch<br /><strong>Veranstalter:</strong><br/>Stadt Oberkirch<br /
 ><strong>Termin:</strong><br/>Beginn: 10.12.2026\, 20:00 Uhr<br/>Ende: 10.
 12.2026<br /><strong>Tickets: </strong><br/><a rel='asdf' href='https://or
 tenaukultur.de/de/veranstaltungen/theater/theater-amateurtheater/detail/ti
 ckets/id/585116-piano-vocal-a-christmas-carol/?follow=https%253A%252F%252F
 ortenaukultur.reservix.de%252Fp%252Freservix%252Fevent%252F2498867' target
 ='_blank' title='' id='ticketlink'>Tickets kaufen</a><br/>https://ortenauk
 ultur.reservix.de/p/reservix/event/2498867<br/><b>Preise: </b><br />bis 16
 \,00 &euro\;&nbsp\; + Ermäßigung<br />*Preise inkl. MwSt.<br /><br /><stro
 ng>Link:</strong><br/><a href='https://ortenaukultur.de/de/veranstaltungen
 /detail/veranstaltung/id/585116-piano-vocal-a-christmas-carol/?vt=1'>Zur D
 etailseite</a>
END:VEVENT
END:VCALENDAR
