BEGIN:VCALENDAR
VERSION:2.0
PRODID:-//ortenaukultur.de//NONSGML kigkonsult.se iCalcreator 2.41.92//
CALSCALE:GREGORIAN
METHOD:PUBLISH
UID:31313064-3432-4835-a434-653664393632
X-WR-TIMEZONE:Europe/Berlin
X-LIC-LOCATION:Europe/Berlin
BEGIN:VEVENT
UID:585274-kulturportal@ortenaukultur.de
DTSTAMP:20260421T230649Z
DESCRIPTION:Kurzbeschreibung:\n Basierend auf dem Film von Touchstone Pictu
 res\, geschrieben von Tom Schulman. Deutsche Fassung von Joern Hinkel und 
 Tilman Raabke.\n Ort:\n Parktheater\n Kaiserstraße 107\, 77933 Lahr\n Vera
 nstalter:\n LahrKultur\n Termin:\n Beginn: 16.12.2026\, 20:00 Uhr\n Ende: 
 16.12.2026\n Tickets:\n Tickets kaufen\n https://ortenaukultur.reservix.de
 /p/reservix/event/2542314\n 1. Platz:\n bis 24\,10 € + Ermäßigung\n 2. Pla
 tz:\n bis 20\,80 € + Ermäßigung\n 3. Platz:\n bis 16\,40 € + Ermäßigung\n 
 4. Platz:\n bis 10\,90 € + Ermäßigung\n *Preise inkl. MwSt.\n \n Link:\n Z
 ur Detailseite
DTSTART;TZID=Europe/Berlin:20261216T200000
DTEND;TZID=Europe/Berlin:20261216T230000
LOCATION:Parktheater\, Kaiserstraße 107\, 77933 Lahr
SUMMARY:Der Club der toten Dichter\, Parktheater
X-ALT-DESC;FMTTYPE=text/html:<strong>Kurzbeschreibung:</strong><br/>Basiere
 nd auf dem Film von Touchstone Pictures\, geschrieben von Tom Schulman. De
 utsche Fassung von Joern Hinkel und Tilman Raabke.\n<br /><strong>Ort:</st
 rong><br/>Parktheater<br/>Kaiserstraße 107\, 77933 Lahr<br /><strong>Veran
 stalter:</strong><br/>LahrKultur<br /><strong>Termin:</strong><br/>Beginn:
  16.12.2026\, 20:00 Uhr<br/>Ende: 16.12.2026<br /><strong>Tickets: </stron
 g><br/><a rel='asdf' href='https://ortenaukultur.de/de/veranstaltungen/the
 ater/theater-amateurtheater/detail/tickets/id/585274-der-club-der-toten-di
 chter/?follow=https%253A%252F%252Fortenaukultur.reservix.de%252Fp%252Frese
 rvix%252Fevent%252F2542314' target='_blank' title='' id='ticketlink'>Ticke
 ts kaufen</a><br/>https://ortenaukultur.reservix.de/p/reservix/event/25423
 14<br/><b>1. Platz: </b><br />bis 24\,10 &euro\;&nbsp\; + Ermäßigung<br />
 <b>2. Platz: </b><br />bis 20\,80 &euro\;&nbsp\; + Ermäßigung<br /><b>3. P
 latz: </b><br />bis 16\,40 &euro\;&nbsp\; + Ermäßigung<br /><b>4. Platz: <
 /b><br />bis 10\,90 &euro\;&nbsp\; + Ermäßigung<br />*Preise inkl. MwSt.<b
 r /><br /><strong>Link:</strong><br/><a href='https://ortenaukultur.de/de/
 veranstaltungen/detail/veranstaltung/id/585274-der-club-der-toten-dichter/
 ?vt=1'>Zur Detailseite</a>
END:VEVENT
END:VCALENDAR
