BEGIN:VCALENDAR
VERSION:2.0
PRODID:-//ortenaukultur.de//NONSGML kigkonsult.se iCalcreator 2.41.92//
CALSCALE:GREGORIAN
METHOD:PUBLISH
UID:32373539-3335-4964-a537-666436643131
X-WR-TIMEZONE:Europe/Berlin
X-LIC-LOCATION:Europe/Berlin
BEGIN:VEVENT
UID:585282-kulturportal@ortenaukultur.de
DTSTAMP:20260422T060857Z
DESCRIPTION:Kurzbeschreibung:\n Nach dem Roman von Joachim Meyerhoff. Mutte
 r und Sohn – eine Beziehung die seit jeher Menschen in unterschiedlichen F
 eldern beschäftigt.\n Ort:\n Parktheater\n Kaiserstraße 107\, 77933 Lahr\n
  Veranstalter:\n LahrKultur\n Termin:\n Beginn: 16.02.2027\, 20:00 Uhr\n E
 nde: 16.02.2027\n Tickets:\n Tickets kaufen\n https://ortenaukultur.reserv
 ix.de/p/reservix/event/2542318\n 1. Platz:\n bis 24\,10 € + Ermäßigung\n 2
 . Platz:\n bis 20\,80 € + Ermäßigung\n 3. Platz:\n bis 16\,40 € + Ermäßigu
 ng\n 4. Platz:\n bis 10\,90 € + Ermäßigung\n *Preise inkl. MwSt.\n \n Link
 :\n Zur Detailseite
DTSTART;TZID=Europe/Berlin:20270216T200000
DTEND;TZID=Europe/Berlin:20270216T230000
LOCATION:Parktheater\, Kaiserstraße 107\, 77933 Lahr
SUMMARY:Man kann auch in die Höhe fallen\, Parktheater
X-ALT-DESC;FMTTYPE=text/html:<strong>Kurzbeschreibung:</strong><br/>Nach de
 m Roman von Joachim Meyerhoff.\nMutter und Sohn – eine Beziehung die seit 
 jeher Menschen in unterschiedlichen Feldern beschäftigt. <br /><strong>Ort
 :</strong><br/>Parktheater<br/>Kaiserstraße 107\, 77933 Lahr<br /><strong>
 Veranstalter:</strong><br/>LahrKultur<br /><strong>Termin:</strong><br/>Be
 ginn: 16.02.2027\, 20:00 Uhr<br/>Ende: 16.02.2027<br /><strong>Tickets: </
 strong><br/><a rel='asdf' href='https://ortenaukultur.de/de/veranstaltunge
 n/theater/theater-amateurtheater/detail/tickets/id/585282-man-kann-auch-in
 -die-hoehe-fallen/?follow=https%253A%252F%252Fortenaukultur.reservix.de%25
 2Fp%252Freservix%252Fevent%252F2542318' target='_blank' title='' id='ticke
 tlink'>Tickets kaufen</a><br/>https://ortenaukultur.reservix.de/p/reservix
 /event/2542318<br/><b>1. Platz: </b><br />bis 24\,10 &euro\;&nbsp\; + Ermä
 ßigung<br /><b>2. Platz: </b><br />bis 20\,80 &euro\;&nbsp\; + Ermäßigung<
 br /><b>3. Platz: </b><br />bis 16\,40 &euro\;&nbsp\; + Ermäßigung<br /><b
 >4. Platz: </b><br />bis 10\,90 &euro\;&nbsp\; + Ermäßigung<br />*Preise i
 nkl. MwSt.<br /><br /><strong>Link:</strong><br/><a href='https://ortenauk
 ultur.de/de/veranstaltungen/detail/veranstaltung/id/585282-man-kann-auch-i
 n-die-hoehe-fallen/?vt=1'>Zur Detailseite</a>
END:VEVENT
END:VCALENDAR
