BEGIN:VCALENDAR
VERSION:2.0
PRODID:-//ortenaukultur.de//NONSGML kigkonsult.se iCalcreator 2.41.92//
CALSCALE:GREGORIAN
METHOD:PUBLISH
UID:37306265-6630-4930-a263-613064383035
X-WR-TIMEZONE:Europe/Berlin
X-LIC-LOCATION:Europe/Berlin
BEGIN:VEVENT
UID:585308-kulturportal@ortenaukultur.de
DTSTAMP:20260422T060727Z
DESCRIPTION:Kurzbeschreibung:\n „Was sich liebt\, das fetzt sich.“ Eine tur
 bulente Komödie von Noël Coward.\n Ort:\n Parktheater\n Kaiserstraße 107\,
  77933 Lahr\n Veranstalter:\n LahrKultur\n Termin:\n Beginn: 09.10.2026\, 
 20:00 Uhr\n Ende: 09.10.2026\n Tickets:\n Tickets kaufen\n https://ortenau
 kultur.reservix.de/p/reservix/event/2542329\n 1. Platz:\n bis 31\,80 € + E
 rmäßigung\n 2. Platz:\n bis 28\,50 € + Ermäßigung\n 3. Platz:\n bis 23\,00
  € + Ermäßigung\n 4. Platz:\n bis 15\,30 € + Ermäßigung\n *Preise inkl. Mw
 St.\n \n Link:\n Zur Detailseite
DTSTART;TZID=Europe/Berlin:20261009T200000
DTEND;TZID=Europe/Berlin:20261009T230000
LOCATION:Parktheater\, Kaiserstraße 107\, 77933 Lahr
SUMMARY:Die Hochzeitsreise\, Parktheater
X-ALT-DESC;FMTTYPE=text/html:<strong>Kurzbeschreibung:</strong><br/>„Was si
 ch liebt\, das fetzt sich.“ \nEine turbulente Komödie von Noël Coward.<br 
 /><strong>Ort:</strong><br/>Parktheater<br/>Kaiserstraße 107\, 77933 Lahr<
 br /><strong>Veranstalter:</strong><br/>LahrKultur<br /><strong>Termin:</s
 trong><br/>Beginn: 09.10.2026\, 20:00 Uhr<br/>Ende: 09.10.2026<br /><stron
 g>Tickets: </strong><br/><a rel='asdf' href='https://ortenaukultur.de/de/v
 eranstaltungen/theater/theater-amateurtheater/detail/tickets/id/585308-die
 -hochzeitsreise/?follow=https%253A%252F%252Fortenaukultur.reservix.de%252F
 p%252Freservix%252Fevent%252F2542329' target='_blank' title='' id='ticketl
 ink'>Tickets kaufen</a><br/>https://ortenaukultur.reservix.de/p/reservix/e
 vent/2542329<br/><b>1. Platz: </b><br />bis 31\,80 &euro\;&nbsp\; + Ermäßi
 gung<br /><b>2. Platz: </b><br />bis 28\,50 &euro\;&nbsp\; + Ermäßigung<br
  /><b>3. Platz: </b><br />bis 23\,00 &euro\;&nbsp\; + Ermäßigung<br /><b>4
 . Platz: </b><br />bis 15\,30 &euro\;&nbsp\; + Ermäßigung<br />*Preise ink
 l. MwSt.<br /><br /><strong>Link:</strong><br/><a href='https://ortenaukul
 tur.de/de/veranstaltungen/detail/veranstaltung/id/585308-die-hochzeitsreis
 e/?vt=1'>Zur Detailseite</a>
END:VEVENT
END:VCALENDAR
