BEGIN:VCALENDAR
VERSION:2.0
PRODID:-//ortenaukultur.de//NONSGML kigkonsult.se iCalcreator 2.41.92//
CALSCALE:GREGORIAN
METHOD:PUBLISH
UID:64393532-6535-4265-b562-346536326432
X-WR-TIMEZONE:Europe/Berlin
X-LIC-LOCATION:Europe/Berlin
BEGIN:VEVENT
UID:585316-kulturportal@ortenaukultur.de
DTSTAMP:20260422T060920Z
DESCRIPTION:Kurzbeschreibung:\n Ein wahnwitziger Hüttenzauber mit einem frö
 hlichen Gestöber der bekanntesten Weihnachtshits mit neuen\, urkomischen T
 exten.\n Ort:\n Parktheater\n Kaiserstraße 107\, 77933 Lahr\n Veranstalter
 :\n LahrKultur\n Termin:\n Beginn: 27.11.2026\, 20:00 Uhr\n Ende: 27.11.20
 26\n Tickets:\n Tickets kaufen\n https://ortenaukultur.reservix.de/p/reser
 vix/event/2542344\n 1. Platz:\n bis 31\,80 € + Ermäßigung\n 2. Platz:\n bi
 s 28\,50 € + Ermäßigung\n 3. Platz:\n bis 23\,00 € + Ermäßigung\n 4. Platz
 :\n bis 15\,30 € + Ermäßigung\n *Preise inkl. MwSt.\n \n Link:\n Zur Detai
 lseite
DTSTART;TZID=Europe/Berlin:20261127T200000
DTEND;TZID=Europe/Berlin:20261127T230000
LOCATION:Parktheater\, Kaiserstraße 107\, 77933 Lahr
SUMMARY:Weisse Zeiten\, Parktheater
X-ALT-DESC;FMTTYPE=text/html:<strong>Kurzbeschreibung:</strong><br/>Ein wah
 nwitziger Hüttenzauber mit einem fröhlichen Gestöber der bekanntesten Weih
 nachtshits mit neuen\, urkomischen Texten.<br /><strong>Ort:</strong><br/>
 Parktheater<br/>Kaiserstraße 107\, 77933 Lahr<br /><strong>Veranstalter:</
 strong><br/>LahrKultur<br /><strong>Termin:</strong><br/>Beginn: 27.11.202
 6\, 20:00 Uhr<br/>Ende: 27.11.2026<br /><strong>Tickets: </strong><br/><a 
 rel='asdf' href='https://ortenaukultur.de/de/veranstaltungen/theater/theat
 er-amateurtheater/detail/tickets/id/585316-weisse-zeiten/?follow=https%253
 A%252F%252Fortenaukultur.reservix.de%252Fp%252Freservix%252Fevent%252F2542
 344' target='_blank' title='' id='ticketlink'>Tickets kaufen</a><br/>https
 ://ortenaukultur.reservix.de/p/reservix/event/2542344<br/><b>1. Platz: </b
 ><br />bis 31\,80 &euro\;&nbsp\; + Ermäßigung<br /><b>2. Platz: </b><br />
 bis 28\,50 &euro\;&nbsp\; + Ermäßigung<br /><b>3. Platz: </b><br />bis 23\
 ,00 &euro\;&nbsp\; + Ermäßigung<br /><b>4. Platz: </b><br />bis 15\,30 &eu
 ro\;&nbsp\; + Ermäßigung<br />*Preise inkl. MwSt.<br /><br /><strong>Link:
 </strong><br/><a href='https://ortenaukultur.de/de/veranstaltungen/detail/
 veranstaltung/id/585316-weisse-zeiten/?vt=1'>Zur Detailseite</a>
END:VEVENT
END:VCALENDAR
