BEGIN:VCALENDAR
VERSION:2.0
PRODID:-//ortenaukultur.de//NONSGML kigkonsult.se iCalcreator 2.41.92//
CALSCALE:GREGORIAN
METHOD:PUBLISH
UID:35653065-3766-4534-b937-323738326530
X-WR-TIMEZONE:Europe/Berlin
X-LIC-LOCATION:Europe/Berlin
BEGIN:VEVENT
UID:585324-kulturportal@ortenaukultur.de
DTSTAMP:20260422T074445Z
DESCRIPTION:Kurzbeschreibung:\n Diese Komödie von Kerry Renard zeigt\, wie 
 viel man durch Zusammenhalt erreichen kann!\n Ort:\n Parktheater\n Kaisers
 traße 107\, 77933 Lahr\n Veranstalter:\n LahrKultur\n Termin:\n Beginn: 29
 .01.2027\, 20:00 Uhr\n Ende: 29.01.2027\n Tickets:\n Tickets kaufen\n http
 s://ortenaukultur.reservix.de/p/reservix/event/2542333\n 1. Platz:\n bis 3
 1\,80 € + Ermäßigung\n 2. Platz:\n bis 28\,50 € + Ermäßigung\n 3. Platz:\n
  bis 23\,00 € + Ermäßigung\n 4. Platz:\n bis 15\,30 € + Ermäßigung\n *Prei
 se inkl. MwSt.\n \n Link:\n Zur Detailseite
DTSTART;TZID=Europe/Berlin:20270129T200000
DTEND;TZID=Europe/Berlin:20270129T230000
LOCATION:Parktheater\, Kaiserstraße 107\, 77933 Lahr
SUMMARY:Ganze Kerle!\, Parktheater
X-ALT-DESC;FMTTYPE=text/html:<strong>Kurzbeschreibung:</strong><br/>Diese K
 omödie von Kerry Renard zeigt\, wie viel man durch Zusammenhalt erreichen 
 kann!<br /><strong>Ort:</strong><br/>Parktheater<br/>Kaiserstraße 107\, 77
 933 Lahr<br /><strong>Veranstalter:</strong><br/>LahrKultur<br /><strong>T
 ermin:</strong><br/>Beginn: 29.01.2027\, 20:00 Uhr<br/>Ende: 29.01.2027<br
  /><strong>Tickets: </strong><br/><a rel='asdf' href='https://ortenaukultu
 r.de/de/veranstaltungen/theater/theater-amateurtheater/detail/tickets/id/5
 85324-ganze-kerle/?follow=https%253A%252F%252Fortenaukultur.reservix.de%25
 2Fp%252Freservix%252Fevent%252F2542333' target='_blank' title='' id='ticke
 tlink'>Tickets kaufen</a><br/>https://ortenaukultur.reservix.de/p/reservix
 /event/2542333<br/><b>1. Platz: </b><br />bis 31\,80 &euro\;&nbsp\; + Ermä
 ßigung<br /><b>2. Platz: </b><br />bis 28\,50 &euro\;&nbsp\; + Ermäßigung<
 br /><b>3. Platz: </b><br />bis 23\,00 &euro\;&nbsp\; + Ermäßigung<br /><b
 >4. Platz: </b><br />bis 15\,30 &euro\;&nbsp\; + Ermäßigung<br />*Preise i
 nkl. MwSt.<br /><br /><strong>Link:</strong><br/><a href='https://ortenauk
 ultur.de/de/veranstaltungen/detail/veranstaltung/id/585324-ganze-kerle/?vt
 =1'>Zur Detailseite</a>
END:VEVENT
END:VCALENDAR
