BEGIN:VCALENDAR
VERSION:2.0
PRODID:-//ortenaukultur.de//NONSGML kigkonsult.se iCalcreator 2.41.92//
CALSCALE:GREGORIAN
METHOD:PUBLISH
UID:62363536-6134-4561-b664-613230653866
X-WR-TIMEZONE:Europe/Berlin
X-LIC-LOCATION:Europe/Berlin
BEGIN:VEVENT
UID:586105-kulturportal@ortenaukultur.de
DTSTAMP:20260421T210637Z
DESCRIPTION:Kurzbeschreibung:\n Heitere Komödie nach dem gleichnamigen fran
 zösischen Spielfilm von Stéphane Robelin. Originaltitel: Et si on vivait t
 ous ensemble?\n Ort:\n Parktheater\n Kaiserstraße 107\, 77933 Lahr\n Veran
 stalter:\n LahrKultur\n Termin:\n Beginn: 16.03.2027\, 20:00 Uhr\n Ende: 1
 6.03.2027\n Tickets:\n Tickets kaufen\n https://ortenaukultur.reservix.de/
 p/reservix/event/2542326\n 1. Platz:\n bis 24\,10 € + Ermäßigung\n 2. Plat
 z:\n bis 20\,80 € + Ermäßigung\n 3. Platz:\n bis 16\,40 € + Ermäßigung\n 4
 . Platz:\n bis 10\,90 € + Ermäßigung\n *Preise inkl. MwSt.\n \n Link:\n Zu
 r Detailseite
DTSTART;TZID=Europe/Berlin:20270316T200000
DTEND;TZID=Europe/Berlin:20270316T230000
LOCATION:Parktheater\, Kaiserstraße 107\, 77933 Lahr
SUMMARY:Und wenn wir alle zusammenziehen?\, Parktheater
X-ALT-DESC;FMTTYPE=text/html:<strong>Kurzbeschreibung:</strong><br/>Heitere
  Komödie nach dem gleichnamigen französischen Spielfilm von Stéphane Robel
 in.\nOriginaltitel: Et si on vivait tous ensemble?\n<br /><strong>Ort:</st
 rong><br/>Parktheater<br/>Kaiserstraße 107\, 77933 Lahr<br /><strong>Veran
 stalter:</strong><br/>LahrKultur<br /><strong>Termin:</strong><br/>Beginn:
  16.03.2027\, 20:00 Uhr<br/>Ende: 16.03.2027<br /><strong>Tickets: </stron
 g><br/><a rel='asdf' href='https://ortenaukultur.de/de/veranstaltungen/the
 ater/theater-amateurtheater/detail/tickets/id/586105-und-wenn-wir-alle-zus
 ammenziehen/?follow=https%253A%252F%252Fortenaukultur.reservix.de%252Fp%25
 2Freservix%252Fevent%252F2542326' target='_blank' title='' id='ticketlink'
 >Tickets kaufen</a><br/>https://ortenaukultur.reservix.de/p/reservix/event
 /2542326<br/><b>1. Platz: </b><br />bis 24\,10 &euro\;&nbsp\; + Ermäßigung
 <br /><b>2. Platz: </b><br />bis 20\,80 &euro\;&nbsp\; + Ermäßigung<br /><
 b>3. Platz: </b><br />bis 16\,40 &euro\;&nbsp\; + Ermäßigung<br /><b>4. Pl
 atz: </b><br />bis 10\,90 &euro\;&nbsp\; + Ermäßigung<br />*Preise inkl. M
 wSt.<br /><br /><strong>Link:</strong><br/><a href='https://ortenaukultur.
 de/de/veranstaltungen/detail/veranstaltung/id/586105-und-wenn-wir-alle-zus
 ammenziehen/?vt=1'>Zur Detailseite</a>
END:VEVENT
END:VCALENDAR
