BEGIN:VCALENDAR
VERSION:2.0
PRODID:-//ortenaukultur.de//NONSGML kigkonsult.se iCalcreator 2.41.92//
CALSCALE:GREGORIAN
METHOD:PUBLISH
UID:30363837-3530-4833-a530-626338396633
X-WR-TIMEZONE:Europe/Berlin
X-LIC-LOCATION:Europe/Berlin
BEGIN:VEVENT
UID:591266-kulturportal@ortenaukultur.de
DTSTAMP:20260422T005937Z
DESCRIPTION:Kurzbeschreibung:\n Verschiedene kreative Freizeitbeschäftigung
 en und deren Ergebnisse werden gezeigt. Außerdem wird Adventsdekoration fü
 r einen guten Zweck verkauft.\n Ort:\n Turn- und Festhalle\n Schulstr. 1\,
  77790 Steinach\n Veranstalter:\n verschiedene Hobbykünstler aus Steinach 
 und Welschensteinach\n Termin:\n Beginn: 21.11.2026\, 14:00 Uhr\n Ende: 21
 .11.2026\n Tickets:\n Es wird kein Eintritt erhoben.\n Link:\n Zur Details
 eite
DTSTART;TZID=Europe/Berlin:20261121T140000
DTEND;TZID=Europe/Berlin:20261121T170000
LOCATION:Turn- und Festhalle\, Schulstr. 1\, 77790 Steinach
SUMMARY:Hobbyausstellung\, Turn- und Festhalle
X-ALT-DESC;FMTTYPE=text/html:<strong>Kurzbeschreibung:</strong><br/>Verschi
 edene kreative Freizeitbeschäftigungen und \nderen Ergebnisse werden gezei
 gt.\nAußerdem wird Adventsdekoration für einen guten Zweck verkauft.<br />
 <strong>Ort:</strong><br/>Turn- und Festhalle<br/>Schulstr. 1\, 77790 Stei
 nach<br /><strong>Veranstalter:</strong><br/>verschiedene Hobbykünstler au
 s Steinach und Welschensteinach<br /><strong>Termin:</strong><br/>Beginn: 
 21.11.2026\, 14:00 Uhr<br/>Ende: 21.11.2026<br /><strong>Tickets: </strong
 ><br/>Es wird kein Eintritt erhoben.<br /><strong>Link:</strong><br/><a hr
 ef='https://ortenaukultur.de/de/veranstaltungen/detail/veranstaltung/id/59
 1266-hobbyausstellung/?vt=1'>Zur Detailseite</a>
END:VEVENT
END:VCALENDAR
