BEGIN:VCALENDAR
VERSION:2.0
PRODID:-//ortenaukultur.de//NONSGML kigkonsult.se iCalcreator 2.41.92//
CALSCALE:GREGORIAN
METHOD:PUBLISH
UID:63333137-3163-4765-b266-303663656236
X-WR-TIMEZONE:Europe/Berlin
X-LIC-LOCATION:Europe/Berlin
BEGIN:VEVENT
UID:591456-kulturportal@ortenaukultur.de
DTSTAMP:20260421T230704Z
DESCRIPTION:Kurzbeschreibung:\n Unser Sommerstück und Manifest für Frieden 
 - eine frühe feministische und antimilitaristische Komödie\n Ort:\n Alte R
 österei (Kehler Hafen)\n Ostrstraße 13\, 77694 Kehl\n Veranstalter:\n Thea
 ter der zwei Ufer.e.V.\n Termin:\n Beginn: 10.07.2026\, 20:00 Uhr\n Ende: 
 10.07.2026\n Link:\n Zur Detailseite
DTSTART;TZID=Europe/Berlin:20260710T200000
DTEND;TZID=Europe/Berlin:20260710T230000
LOCATION:Alte Rösterei (Kehler Hafen)\, Ostrstraße 13\, 77694 Kehl
SUMMARY:Lysistrata - Komödie von Aristophanes  -   \, Alte Rösterei (Kehler
  Hafen)
X-ALT-DESC;FMTTYPE=text/html:<strong>Kurzbeschreibung:</strong><br/>Unser S
 ommerstück und Manifest für Frieden - eine frühe feministische und antimil
 itaristische Komödie<br /><strong>Ort:</strong><br/>Alte Rösterei (Kehler 
 Hafen)<br/>Ostrstraße 13\, 77694 Kehl<br /><strong>Veranstalter:</strong><
 br/>Theater der zwei Ufer.e.V.<br /><strong>Termin:</strong><br/>Beginn: 1
 0.07.2026\, 20:00 Uhr<br/>Ende: 10.07.2026<br /><strong>Link:</strong><br/
 ><a href='https://ortenaukultur.de/de/veranstaltungen/detail/veranstaltung
 /id/591456-lysistrata-komoedie-von-aristophanes/?vt=1'>Zur Detailseite</a>
END:VEVENT
END:VCALENDAR
