BEGIN:VCALENDAR
VERSION:2.0
PRODID:-//ortenaukultur.de//NONSGML kigkonsult.se iCalcreator 2.41.92//
CALSCALE:GREGORIAN
METHOD:PUBLISH
UID:38386465-6361-4530-a338-646366393632
X-WR-TIMEZONE:Europe/Berlin
X-LIC-LOCATION:Europe/Berlin
BEGIN:VEVENT
UID:591457-kulturportal@ortenaukultur.de
DTSTAMP:20260422T005947Z
DESCRIPTION:Kurzbeschreibung:\n Unser Sommerstück und Manifest für Frieden 
 - eine frühe feministische und antimilitaristische Komödie\n Ort:\n Alte R
 österei (Kehler Hafen)\n Ostrstraße 13\, 77694 Kehl\n Veranstalter:\n Thea
 ter der zwei Ufer.e.V.\n Termin:\n Beginn: 11.07.2026\, 20:00 Uhr\n Ende: 
 11.07.2026\n Link:\n Zur Detailseite
DTSTART;TZID=Europe/Berlin:20260711T200000
DTEND;TZID=Europe/Berlin:20260711T230000
LOCATION:Alte Rösterei (Kehler Hafen)\, Ostrstraße 13\, 77694 Kehl
SUMMARY:Lysistrata - Komödie von Aristophanes  -   \, Alte Rösterei (Kehler
  Hafen)
X-ALT-DESC;FMTTYPE=text/html:<strong>Kurzbeschreibung:</strong><br/>Unser S
 ommerstück und Manifest für Frieden - eine frühe feministische und antimil
 itaristische Komödie<br /><strong>Ort:</strong><br/>Alte Rösterei (Kehler 
 Hafen)<br/>Ostrstraße 13\, 77694 Kehl<br /><strong>Veranstalter:</strong><
 br/>Theater der zwei Ufer.e.V.<br /><strong>Termin:</strong><br/>Beginn: 1
 1.07.2026\, 20:00 Uhr<br/>Ende: 11.07.2026<br /><strong>Link:</strong><br/
 ><a href='https://ortenaukultur.de/de/veranstaltungen/detail/veranstaltung
 /id/591457-lysistrata-komoedie-von-aristophanes/?vt=1'>Zur Detailseite</a>
END:VEVENT
END:VCALENDAR
