BEGIN:VCALENDAR
VERSION:2.0
PRODID:-//ortenaukultur.de//NONSGML kigkonsult.se iCalcreator 2.41.92//
CALSCALE:GREGORIAN
METHOD:PUBLISH
UID:64343432-3235-4834-b636-333666306532
X-WR-TIMEZONE:Europe/Berlin
X-LIC-LOCATION:Europe/Berlin
BEGIN:VEVENT
UID:591613-kulturportal@ortenaukultur.de
DTSTAMP:20260422T160101Z
DESCRIPTION:Kurzbeschreibung:\n Die Freiburger Puppenbühne zeigt ein fröhli
 ches und wundervolles Puppentheater für Kinder ab 4 Jahren.\n Ort:\n Media
 thek\n Marktstraße 9\, 77694 Kehl\n Veranstalter:\n Mediathek\n Termin:\n 
 Beginn: 27.04.2026\, 10:30 Uhr\n Ende: 27.04.2026\n Tickets:\n Tickets kau
 fen\n https://ortenaukultur.reservix.de/p/reservix/event/2541583\n 1. Kate
 gorie:\n bis 8\,15 € + Ermäßigung\n *Preise inkl. MwSt.\n \n Link:\n Zur D
 etailseite
DTSTART;TZID=Europe/Berlin:20260427T103000
DTEND;TZID=Europe/Berlin:20260427T133000
LOCATION:Mediathek\, Marktstraße 9\, 77694 Kehl
SUMMARY:Kasper und Bello retten den Wald\, Mediathek
X-ALT-DESC;FMTTYPE=text/html:<strong>Kurzbeschreibung:</strong><br/>Die Fre
 iburger Puppenbühne zeigt ein fröhliches und wundervolles Puppentheater fü
 r Kinder ab 4 Jahren.<br /><strong>Ort:</strong><br/>Mediathek<br/>Marktst
 raße 9\, 77694 Kehl<br /><strong>Veranstalter:</strong><br/>Mediathek <br 
 /><strong>Termin:</strong><br/>Beginn: 27.04.2026\, 10:30 Uhr<br/>Ende: 27
 .04.2026<br /><strong>Tickets: </strong><br/><a rel='asdf' href='https://o
 rtenaukultur.de/de/veranstaltungen/theater/theater-amateurtheater/detail/t
 ickets/id/591613-kasper-und-bello-retten-den-wald/?follow=https%253A%252F%
 252Fortenaukultur.reservix.de%252Fp%252Freservix%252Fevent%252F2541583' ta
 rget='_blank' title='' id='ticketlink'>Tickets kaufen</a><br/>https://orte
 naukultur.reservix.de/p/reservix/event/2541583<br/><b>1. Kategorie: </b><b
 r />bis 8\,15 &euro\;&nbsp\; + Ermäßigung<br />*Preise inkl. MwSt.<br /><b
 r /><strong>Link:</strong><br/><a href='https://ortenaukultur.de/de/verans
 taltungen/detail/veranstaltung/id/591613-kasper-und-bello-retten-den-wald/
 ?vt=1'>Zur Detailseite</a>
END:VEVENT
END:VCALENDAR
