BEGIN:VCALENDAR
VERSION:2.0
PRODID:-//ortenaukultur.de//NONSGML kigkonsult.se iCalcreator 2.41.92//
CALSCALE:GREGORIAN
METHOD:PUBLISH
UID:37633039-3537-4839-b863-353462323262
X-WR-TIMEZONE:Europe/Berlin
X-LIC-LOCATION:Europe/Berlin
BEGIN:VEVENT
UID:591691-kulturportal@ortenaukultur.de
DTSTAMP:20260422T005912Z
DESCRIPTION:Kurzbeschreibung:\n Von störrischen Eseln\, goldenen Käfern und
  weiße Frauen - die Erlebnisführung im Renchtal\n Ort:\n diverse Spielorte
  - siehe Beschreibung\n .\, . Oberkirch\n Veranstalter:\n Renchtal Tourism
 us GmbH\n Termin:\n Beginn: 29.10.2026\, 19:00 Uhr\n Ende: 29.10.2026\n Li
 nk:\n Zur Detailseite
DTSTART;TZID=Europe/Berlin:20261029T190000
DTEND;TZID=Europe/Berlin:20261029T220000
LOCATION:diverse Spielorte - siehe Beschreibung\, .\, . Oberkirch
SUMMARY:Renchtäler Sagenführungen\, diverse Spielorte - siehe Beschreibung
X-ALT-DESC;FMTTYPE=text/html:<strong>Kurzbeschreibung:</strong><br/>Von stö
 rrischen Eseln\, goldenen Käfern und weiße Frauen - die Erlebnisführung im
  Renchtal<br /><strong>Ort:</strong><br/>diverse Spielorte - siehe Beschre
 ibung<br/>.\, . Oberkirch<br /><strong>Veranstalter:</strong><br/>Renchtal
  Tourismus GmbH<br /><strong>Termin:</strong><br/>Beginn: 29.10.2026\, 19:
 00 Uhr<br/>Ende: 29.10.2026<br /><strong>Link:</strong><br/><a href='https
 ://ortenaukultur.de/de/veranstaltungen/detail/veranstaltung/id/591691-renc
 htaeler-sagenfuehrungen/?vt=1'>Zur Detailseite</a>
END:VEVENT
END:VCALENDAR
