BEGIN:VCALENDAR
VERSION:2.0
PRODID:-//ortenaukultur.de//NONSGML kigkonsult.se iCalcreator 2.41.92//
CALSCALE:GREGORIAN
METHOD:PUBLISH
UID:37643362-3564-4463-a235-653561376461
X-WR-TIMEZONE:Europe/Berlin
X-LIC-LOCATION:Europe/Berlin
BEGIN:VEVENT
UID:593871-kulturportal@ortenaukultur.de
DTSTAMP:20260422T154113Z
DESCRIPTION:Kurzbeschreibung:\n Der Lyrikwettstreit im Kulturhaus Kehl mit 
 Poetinnen und Poeten der deutschsprachigen Slamszene im Herbst 2026\n Ort:
 \n Das Kulturhaus.\n Am Läger 12\, 77694 Kehl\n Veranstalter:\n Kulturbüro
  Kehl\n Termin:\n Beginn: 26.09.2026\, 20:00 Uhr\n Ende: 26.09.2026\n Tick
 ets:\n Tickets kaufen\n https://ortenaukultur.reservix.de/p/reservix/event
 /2547598\n 1. Kategorie:\n bis 18\,60 € + Ermäßigung\n *Preise inkl. MwSt.
 \n \n Link:\n Zur Detailseite
DTSTART;TZID=Europe/Berlin:20260926T200000
DTEND;TZID=Europe/Berlin:20260926T230000
LOCATION:Das Kulturhaus.\, Am Läger 12\, 77694 Kehl
SUMMARY:Poetry Slam | DichtungsRing\, Das Kulturhaus.
X-ALT-DESC;FMTTYPE=text/html:<strong>Kurzbeschreibung:</strong><br/>Der Lyr
 ikwettstreit im Kulturhaus Kehl mit Poetinnen und Poeten der deutschsprach
 igen Slamszene im Herbst 2026<br /><strong>Ort:</strong><br/>Das Kulturhau
 s.<br/>Am Läger 12\, 77694 Kehl<br /><strong>Veranstalter:</strong><br/>Ku
 lturbüro Kehl<br /><strong>Termin:</strong><br/>Beginn: 26.09.2026\, 20:00
  Uhr<br/>Ende: 26.09.2026<br /><strong>Tickets: </strong><br/><a rel='asdf
 ' href='https://ortenaukultur.de/de/veranstaltungen/theater/theater-amateu
 rtheater/detail/tickets/id/593871-poetry-slam-dichtungsring/?follow=https%
 253A%252F%252Fortenaukultur.reservix.de%252Fp%252Freservix%252Fevent%252F2
 547598' target='_blank' title='' id='ticketlink'>Tickets kaufen</a><br/>ht
 tps://ortenaukultur.reservix.de/p/reservix/event/2547598<br/><b>1. Kategor
 ie: </b><br />bis 18\,60 &euro\;&nbsp\; + Ermäßigung<br />*Preise inkl. Mw
 St.<br /><br /><strong>Link:</strong><br/><a href='https://ortenaukultur.d
 e/de/veranstaltungen/detail/veranstaltung/id/593871-poetry-slam-dichtungsr
 ing/?vt=1'>Zur Detailseite</a>
END:VEVENT
END:VCALENDAR
