BEGIN:VCALENDAR
VERSION:2.0
PRODID:-//ortenaukultur.de//NONSGML kigkonsult.se iCalcreator 2.41.92//
CALSCALE:GREGORIAN
METHOD:PUBLISH
UID:38636237-3939-4636-a561-343366633463
X-WR-TIMEZONE:Europe/Berlin
X-LIC-LOCATION:Europe/Berlin
BEGIN:VEVENT
UID:253502-kulturportal@ortenaukultur.de
DTSTAMP:20260421T215810Z
DESCRIPTION:Kurzbeschreibung:\n Museumsfest auf dem Josef Naudascher Platz 
 Samstagabend Hock beim Museum und Fabrikantenvilla\n Ort:\n Tabakmuseum Ma
 hlberg und Fabrikantenvilla \, Mahlberg\n Veranstalter:\n Förderverein Obe
 rrheinisches Tabakmuseum e.V.\n Termin:\n Beginn: 27.06.2026\, 17:00 Uhr\n
  Ende: 27.06.2026\n Link:\n Page détaillée
DTSTART;TZID=Europe/Berlin:20260627T170000
DTEND;TZID=Europe/Berlin:20260627T200000
LOCATION:Tabakmuseum Mahlberg und Fabrikantenvilla \, Mahlberg
SUMMARY:Museumsfest 2026\, Tabakmuseum Mahlberg und Fabrikantenvilla
X-ALT-DESC;FMTTYPE=text/html:<strong>Kurzbeschreibung:</strong><br/>Museums
 fest auf dem Josef Naudascher Platz\nSamstagabend Hock beim Museum und Fab
 rikantenvilla  <br /><strong>Ort:</strong><br/>Tabakmuseum Mahlberg und Fa
 brikantenvilla \, Mahlberg<br /><strong>Veranstalter:</strong><br/>Förderv
 erein Oberrheinisches Tabakmuseum e.V.<br /><strong>Termin:</strong><br/>B
 eginn: 27.06.2026\, 17:00 Uhr<br/>Ende: 27.06.2026<br /><strong>Link:</str
 ong><br/><a href='https://ortenaukultur.de/fr/evenements/detail/evenement/
 id/253502-museumsfest-2026/?vt=1'>Page détaillée </a>
END:VEVENT
END:VCALENDAR
