BEGIN:VCALENDAR
VERSION:2.0
PRODID:-//ortenaukultur.de//NONSGML kigkonsult.se iCalcreator 2.41.92//
CALSCALE:GREGORIAN
METHOD:PUBLISH
UID:38646563-3932-4631-b765-323131323730
X-WR-TIMEZONE:Europe/Berlin
X-LIC-LOCATION:Europe/Berlin
BEGIN:VEVENT
UID:327526-kulturportal@ortenaukultur.de
DTSTAMP:20260422T144016Z
DESCRIPTION:Kurzbeschreibung:\n Der Schutzengel-Lauf ist ein Spendenlauf\, 
 organisiert von der Selbsthilfegruppe Mukoviszidose Ortenau.\n Ort:\n In d
 er Stadt \, Zell am Harmersbach\n Veranstalter:\n Turnverein Unterharmersb
 ach in Kooperation mit Mukoviszidose Selbsthilfe Ortenau\n Termin:\n Begin
 n: 16.05.2026\, 14:00 Uhr\n Ende: 16.05.2026\n Link:\n Page détaillée
DTSTART;TZID=Europe/Berlin:20260516T140000
DTEND;TZID=Europe/Berlin:20260516T170000
LOCATION:In der Stadt \, Zell am Harmersbach
SUMMARY:Ortenauer Schutzengel-Lauf\, In der Stadt
X-ALT-DESC;FMTTYPE=text/html:<strong>Kurzbeschreibung:</strong><br/>Der Sch
 utzengel-Lauf ist ein Spendenlauf\, organisiert von der Selbsthilfegruppe 
 Mukoviszidose Ortenau.\n\n<br /><strong>Ort:</strong><br/>In der Stadt \, 
 Zell am Harmersbach<br /><strong>Veranstalter:</strong><br/>Turnverein Unt
 erharmersbach in Kooperation mit Mukoviszidose Selbsthilfe Ortenau <br /><
 strong>Termin:</strong><br/>Beginn: 16.05.2026\, 14:00 Uhr<br/>Ende: 16.05
 .2026<br /><strong>Link:</strong><br/><a href='https://ortenaukultur.de/fr
 /evenements/detail/evenement/id/327526-ortenauer-schutzengel-lauf/?vt=1'>P
 age détaillée </a>
END:VEVENT
END:VCALENDAR
