BEGIN:VCALENDAR
VERSION:2.0
PRODID:-//ortenaukultur.de//NONSGML kigkonsult.se iCalcreator 2.41.92//
CALSCALE:GREGORIAN
METHOD:PUBLISH
UID:61666135-3536-4031-a539-363032323765
X-WR-TIMEZONE:Europe/Berlin
X-LIC-LOCATION:Europe/Berlin
BEGIN:VEVENT
UID:428829-kulturportal@ortenaukultur.de
DTSTAMP:20260422T014807Z
DESCRIPTION:Kurzbeschreibung:\n Von Mai bis Oktober werden jeden Sonntag um
  11:00 Uhr Führungen angeboten. Es können auch spezielle Führungen wie z. 
 B. zum Thema Architektur gebucht werden.\n Ort:\n Wallfahrtskirche 'Mariä 
 Krönung'\, Lautenbach\n Veranstalter:\n Gemeinde Lautenbach\n Termin:\n Be
 ginn: 03.05.2026\, 11:00 Uhr\n Ende: 03.05.2026\n Link:\n Page détaillée
DTSTART;TZID=Europe/Berlin:20260503T110000
DTEND;TZID=Europe/Berlin:20260503T140000
LOCATION:Wallfahrtskirche 'Mariä Krönung'\, Lautenbach
SUMMARY:Führungen Wallfahrtskirche Mariä Krönung\, Wallfahrtskirche 'Mariä 
 Krönung'
X-ALT-DESC;FMTTYPE=text/html:<strong>Kurzbeschreibung:</strong><br/>Von Mai
  bis Oktober werden jeden Sonntag um 11:00 Uhr Führungen angeboten. Es kön
 nen auch spezielle Führungen wie z. B. zum Thema Architektur gebucht werde
 n.<br /><strong>Ort:</strong><br/>Wallfahrtskirche 'Mariä Krönung'\, Laute
 nbach<br /><strong>Veranstalter:</strong><br/>Gemeinde Lautenbach<br /><st
 rong>Termin:</strong><br/>Beginn: 03.05.2026\, 11:00 Uhr<br/>Ende: 03.05.2
 026<br /><strong>Link:</strong><br/><a href='https://ortenaukultur.de/fr/e
 venements/detail/evenement/id/428829-fuehrungen-wallfahrtskirche-mariae-kr
 oenung/?vt=1'>Page détaillée </a>
END:VEVENT
END:VCALENDAR
