BEGIN:VCALENDAR
VERSION:2.0
PRODID:-//ortenaukultur.de//NONSGML kigkonsult.se iCalcreator 2.41.92//
CALSCALE:GREGORIAN
METHOD:PUBLISH
UID:34396462-3836-4137-a330-616336353638
X-WR-TIMEZONE:Europe/Berlin
X-LIC-LOCATION:Europe/Berlin
BEGIN:VEVENT
UID:441177-kulturportal@ortenaukultur.de
DTSTAMP:20260425T133208Z
DESCRIPTION:Kurzbeschreibung:\n Kilwi das große Volksfest in Unterharmersba
 ch mit Fahrgeschäften und Jahrmarkt am Sonntag\n Ort:\n Beim Sportplatz Un
 terharmersbach\, Zell am Harmersbach\n Veranstalter:\n Fußballverein Unter
 harmersbach\n Termin:\n Beginn: 13.09.2026\n Ende: 13.09.2026\n Link:\n Pa
 ge détaillée
DTSTART;TZID=Europe/Berlin:20260913T000000
DTEND;TZID=Europe/Berlin:20260913T030000
LOCATION:Beim Sportplatz Unterharmersbach\, Zell am Harmersbach
SUMMARY:Hombacher Kilwi\, Beim Sportplatz Unterharmersbach
X-ALT-DESC;FMTTYPE=text/html:<strong>Kurzbeschreibung:</strong><br/>Kilwi d
 as große Volksfest in Unterharmersbach mit Fahrgeschäften und Jahrmarkt am
  Sonntag \n\n<br /><strong>Ort:</strong><br/>Beim Sportplatz Unterharmersb
 ach\, Zell am Harmersbach<br /><strong>Veranstalter:</strong><br/>Fußballv
 erein Unterharmersbach<br /><strong>Termin:</strong><br/>Beginn: 13.09.202
 6<br/>Ende: 13.09.2026<br /><strong>Link:</strong><br/><a href='https://or
 tenaukultur.de/fr/evenements/detail/evenement/id/441177-hombacher-kilwi/?v
 t=1'>Page détaillée </a>
END:VEVENT
END:VCALENDAR
