BEGIN:VCALENDAR
VERSION:2.0
PRODID:-//ortenaukultur.de//NONSGML kigkonsult.se iCalcreator 2.41.92//
CALSCALE:GREGORIAN
METHOD:PUBLISH
UID:35393139-6133-4261-b061-353662346433
X-WR-TIMEZONE:Europe/Berlin
X-LIC-LOCATION:Europe/Berlin
BEGIN:VEVENT
UID:452466-kulturportal@ortenaukultur.de
DTSTAMP:20260422T073642Z
DESCRIPTION:Kurzbeschreibung:\n Eine Whiskyprobe der besonderen Art im Besu
 cherbergwerk Grube Wenzel in Oberwolfach\n Ort:\n Besucherbergwerk Grube W
 enzel\n Frohnbach 19\, 77709 Oberwolfach\n Veranstalter:\n Grube Wenzel\n 
 Termin:\n Beginn: 12.06.2026\, 18:30 Uhr\n Ende: 12.06.2026\n Link:\n Page
  détaillée
DTSTART;TZID=Europe/Berlin:20260612T183000
DTEND;TZID=Europe/Berlin:20260612T213000
LOCATION:Besucherbergwerk Grube Wenzel\, Frohnbach 19\, 77709 Oberwolfach
SUMMARY:Whisky & Bergbau im Besucherbergwerk Grube Wenzel\, Besucherbergwer
 k Grube Wenzel
X-ALT-DESC;FMTTYPE=text/html:<strong>Kurzbeschreibung:</strong><br/>Eine Wh
 iskyprobe der besonderen Art im Besucherbergwerk Grube Wenzel in Oberwolfa
 ch<br /><strong>Ort:</strong><br/>Besucherbergwerk Grube Wenzel<br/>Frohnb
 ach 19\, 77709  Oberwolfach<br /><strong>Veranstalter:</strong><br/>Grube 
 Wenzel<br /><strong>Termin:</strong><br/>Beginn: 12.06.2026\, 18:30 Uhr<br
 />Ende: 12.06.2026<br /><strong>Link:</strong><br/><a href='https://ortena
 ukultur.de/fr/evenements/detail/evenement/id/452466-whisky-bergbau-im-besu
 cherbergwerk-grube-wenzel/?vt=1'>Page détaillée </a>
END:VEVENT
END:VCALENDAR
